BEGIN:VCALENDAR
VERSION:2.0
PRODID:-//The Lost Arc, Rhayader - ECPv6.15.20//NONSGML v1.0//EN
CALSCALE:GREGORIAN
METHOD:PUBLISH
X-ORIGINAL-URL:https://thelostarc.co.uk
X-WR-CALDESC:Events for The Lost Arc, Rhayader
REFRESH-INTERVAL;VALUE=DURATION:PT1H
X-Robots-Tag:noindex
X-PUBLISHED-TTL:PT1H
BEGIN:VTIMEZONE
TZID:Europe/London
BEGIN:DAYLIGHT
TZOFFSETFROM:+0000
TZOFFSETTO:+0100
TZNAME:BST
DTSTART:20250330T010000
END:DAYLIGHT
BEGIN:STANDARD
TZOFFSETFROM:+0100
TZOFFSETTO:+0000
TZNAME:GMT
DTSTART:20251026T010000
END:STANDARD
BEGIN:DAYLIGHT
TZOFFSETFROM:+0000
TZOFFSETTO:+0100
TZNAME:BST
DTSTART:20260329T010000
END:DAYLIGHT
BEGIN:STANDARD
TZOFFSETFROM:+0100
TZOFFSETTO:+0000
TZNAME:GMT
DTSTART:20261025T010000
END:STANDARD
BEGIN:DAYLIGHT
TZOFFSETFROM:+0000
TZOFFSETTO:+0100
TZNAME:BST
DTSTART:20270328T010000
END:DAYLIGHT
BEGIN:STANDARD
TZOFFSETFROM:+0100
TZOFFSETTO:+0000
TZNAME:GMT
DTSTART:20271031T010000
END:STANDARD
END:VTIMEZONE
BEGIN:VEVENT
DTSTART;TZID=Europe/London:20260703T170000
DTEND;TZID=Europe/London:20260703T210000
DTSTAMP:20260420T110430
CREATED:20241122T183907Z
LAST-MODIFIED:20251103T155439Z
UID:10000892-1783098000-1783112400@thelostarc.co.uk
SUMMARY:Nos Wener pizza
DESCRIPTION:Nosweithiau pizza wrth yr arc!\n\n\n\nyn noson newydd\, reolaidd o gerddoriaeth fyw wreiddiol o’n hardal leol. Mewn ymdrech i hybu a chynnal y sin gerddoriaeth wych sydd gennym yn y Canolbarth\, rydym yn rhoi llwyfan newydd ac ymroddedig i dalent cartref. Bydd gan y noson lein-yp gwahanol o 3 act bob yn ail fis\, gyda’r holl arian drws yn mynd yn syth i’r cerddorion sy’n ymwneud â chreu cerddoriaeth newydd wych yn lleol.
URL:https://thelostarc.co.uk/event/nos-wener-pizza/2026-07-03/
CATEGORIES:Bwyd
ATTACH;FMTTYPE=image/jpeg:https://thelostarc.co.uk/wp-content/uploads/2019/05/Pizza-oven.jpg
END:VEVENT
BEGIN:VEVENT
DTSTART;TZID=Europe/London:20260703T170000
DTEND;TZID=Europe/London:20260703T210000
DTSTAMP:20260420T110430
CREATED:20260129T104003Z
LAST-MODIFIED:20260129T104749Z
UID:10001500-1783098000-1783112400@thelostarc.co.uk
SUMMARY:Friday pizza night
DESCRIPTION:Pizza nights at the arc!\n\n\n\nFriday night is pizza night at The Lost ARC café! At the end of the week we fire up our amazing wood-fired over to cook delicious and fresh pizza\, so why not join us! \n\n\n\nBooking is recommended\, especially if there’s a gig on! Call the café to book on 01597811226. \n\n\n\n\n\n\n\n\n\n\n\n\n\n\n\nBook now!
URL:https://thelostarc.co.uk/event/friday-pizza-night/2026-07-03/
CATEGORIES:Food
ATTACH;FMTTYPE=image/jpeg:https://thelostarc.co.uk/wp-content/uploads/2019/05/Pizza-oven.jpg
END:VEVENT
BEGIN:VEVENT
DTSTART;TZID=Europe/London:20260706T193000
DTEND;TZID=Europe/London:20260706T223000
DTSTAMP:20260420T110430
CREATED:20250626T091106Z
LAST-MODIFIED:20250707T234146Z
UID:10001232-1783366200-1783377000@thelostarc.co.uk
SUMMARY:open mic
DESCRIPTION:A chance to get on our stage on the first Monday of every month! \n\n\n\nAll welcome\, with sign up from 7pm earliest. Songs\, stories\, jams\, poems and more. \n\n\n\nProfessional sound and a supportive audience guaranteed. Free entry\, bar open. \n\n\n\nFor more information search ‘The Lost Arc Open Mic‘ on facebook to join our group and make enquiries.
URL:https://thelostarc.co.uk/event/open-mic/2026-07-06/
CATEGORIES:Community
ATTACH;FMTTYPE=image/jpeg:https://thelostarc.co.uk/wp-content/uploads/2025/06/Open-Mic.jpg
END:VEVENT
BEGIN:VEVENT
DTSTART;TZID=Europe/London:20260710T170000
DTEND;TZID=Europe/London:20260710T210000
DTSTAMP:20260420T110430
CREATED:20241122T183907Z
LAST-MODIFIED:20251103T155439Z
UID:10000893-1783702800-1783717200@thelostarc.co.uk
SUMMARY:Nos Wener pizza
DESCRIPTION:Nosweithiau pizza wrth yr arc!\n\n\n\nyn noson newydd\, reolaidd o gerddoriaeth fyw wreiddiol o’n hardal leol. Mewn ymdrech i hybu a chynnal y sin gerddoriaeth wych sydd gennym yn y Canolbarth\, rydym yn rhoi llwyfan newydd ac ymroddedig i dalent cartref. Bydd gan y noson lein-yp gwahanol o 3 act bob yn ail fis\, gyda’r holl arian drws yn mynd yn syth i’r cerddorion sy’n ymwneud â chreu cerddoriaeth newydd wych yn lleol.
URL:https://thelostarc.co.uk/event/nos-wener-pizza/2026-07-10/
CATEGORIES:Bwyd
ATTACH;FMTTYPE=image/jpeg:https://thelostarc.co.uk/wp-content/uploads/2019/05/Pizza-oven.jpg
END:VEVENT
BEGIN:VEVENT
DTSTART;TZID=Europe/London:20260710T170000
DTEND;TZID=Europe/London:20260710T210000
DTSTAMP:20260420T110430
CREATED:20260129T104003Z
LAST-MODIFIED:20260129T104749Z
UID:10001501-1783702800-1783717200@thelostarc.co.uk
SUMMARY:Friday pizza night
DESCRIPTION:Pizza nights at the arc!\n\n\n\nFriday night is pizza night at The Lost ARC café! At the end of the week we fire up our amazing wood-fired over to cook delicious and fresh pizza\, so why not join us! \n\n\n\nBooking is recommended\, especially if there’s a gig on! Call the café to book on 01597811226. \n\n\n\n\n\n\n\n\n\n\n\n\n\n\n\nBook now!
URL:https://thelostarc.co.uk/event/friday-pizza-night/2026-07-10/
CATEGORIES:Food
ATTACH;FMTTYPE=image/jpeg:https://thelostarc.co.uk/wp-content/uploads/2019/05/Pizza-oven.jpg
END:VEVENT
BEGIN:VEVENT
DTSTART;TZID=Europe/London:20260717T170000
DTEND;TZID=Europe/London:20260717T210000
DTSTAMP:20260420T110430
CREATED:20241122T183907Z
LAST-MODIFIED:20251103T155439Z
UID:10000894-1784307600-1784322000@thelostarc.co.uk
SUMMARY:Nos Wener pizza
DESCRIPTION:Nosweithiau pizza wrth yr arc!\n\n\n\nyn noson newydd\, reolaidd o gerddoriaeth fyw wreiddiol o’n hardal leol. Mewn ymdrech i hybu a chynnal y sin gerddoriaeth wych sydd gennym yn y Canolbarth\, rydym yn rhoi llwyfan newydd ac ymroddedig i dalent cartref. Bydd gan y noson lein-yp gwahanol o 3 act bob yn ail fis\, gyda’r holl arian drws yn mynd yn syth i’r cerddorion sy’n ymwneud â chreu cerddoriaeth newydd wych yn lleol.
URL:https://thelostarc.co.uk/event/nos-wener-pizza/2026-07-17/
CATEGORIES:Bwyd
ATTACH;FMTTYPE=image/jpeg:https://thelostarc.co.uk/wp-content/uploads/2019/05/Pizza-oven.jpg
END:VEVENT
BEGIN:VEVENT
DTSTART;TZID=Europe/London:20260717T170000
DTEND;TZID=Europe/London:20260717T210000
DTSTAMP:20260420T110430
CREATED:20260129T104003Z
LAST-MODIFIED:20260129T104749Z
UID:10001502-1784307600-1784322000@thelostarc.co.uk
SUMMARY:Friday pizza night
DESCRIPTION:Pizza nights at the arc!\n\n\n\nFriday night is pizza night at The Lost ARC café! At the end of the week we fire up our amazing wood-fired over to cook delicious and fresh pizza\, so why not join us! \n\n\n\nBooking is recommended\, especially if there’s a gig on! Call the café to book on 01597811226. \n\n\n\n\n\n\n\n\n\n\n\n\n\n\n\nBook now!
URL:https://thelostarc.co.uk/event/friday-pizza-night/2026-07-17/
CATEGORIES:Food
ATTACH;FMTTYPE=image/jpeg:https://thelostarc.co.uk/wp-content/uploads/2019/05/Pizza-oven.jpg
END:VEVENT
BEGIN:VEVENT
DTSTART;TZID=Europe/London:20260724T170000
DTEND;TZID=Europe/London:20260724T210000
DTSTAMP:20260420T110430
CREATED:20241122T183907Z
LAST-MODIFIED:20251103T155439Z
UID:10000895-1784912400-1784926800@thelostarc.co.uk
SUMMARY:Nos Wener pizza
DESCRIPTION:Nosweithiau pizza wrth yr arc!\n\n\n\nyn noson newydd\, reolaidd o gerddoriaeth fyw wreiddiol o’n hardal leol. Mewn ymdrech i hybu a chynnal y sin gerddoriaeth wych sydd gennym yn y Canolbarth\, rydym yn rhoi llwyfan newydd ac ymroddedig i dalent cartref. Bydd gan y noson lein-yp gwahanol o 3 act bob yn ail fis\, gyda’r holl arian drws yn mynd yn syth i’r cerddorion sy’n ymwneud â chreu cerddoriaeth newydd wych yn lleol.
URL:https://thelostarc.co.uk/event/nos-wener-pizza/2026-07-24/
CATEGORIES:Bwyd
ATTACH;FMTTYPE=image/jpeg:https://thelostarc.co.uk/wp-content/uploads/2019/05/Pizza-oven.jpg
END:VEVENT
BEGIN:VEVENT
DTSTART;TZID=Europe/London:20260724T170000
DTEND;TZID=Europe/London:20260724T210000
DTSTAMP:20260420T110430
CREATED:20260129T104003Z
LAST-MODIFIED:20260129T104749Z
UID:10001503-1784912400-1784926800@thelostarc.co.uk
SUMMARY:Friday pizza night
DESCRIPTION:Pizza nights at the arc!\n\n\n\nFriday night is pizza night at The Lost ARC café! At the end of the week we fire up our amazing wood-fired over to cook delicious and fresh pizza\, so why not join us! \n\n\n\nBooking is recommended\, especially if there’s a gig on! Call the café to book on 01597811226. \n\n\n\n\n\n\n\n\n\n\n\n\n\n\n\nBook now!
URL:https://thelostarc.co.uk/event/friday-pizza-night/2026-07-24/
CATEGORIES:Food
ATTACH;FMTTYPE=image/jpeg:https://thelostarc.co.uk/wp-content/uploads/2019/05/Pizza-oven.jpg
END:VEVENT
BEGIN:VEVENT
DTSTART;TZID=Europe/London:20260731T170000
DTEND;TZID=Europe/London:20260731T210000
DTSTAMP:20260420T110430
CREATED:20241122T183907Z
LAST-MODIFIED:20251103T155439Z
UID:10000896-1785517200-1785531600@thelostarc.co.uk
SUMMARY:Nos Wener pizza
DESCRIPTION:Nosweithiau pizza wrth yr arc!\n\n\n\nyn noson newydd\, reolaidd o gerddoriaeth fyw wreiddiol o’n hardal leol. Mewn ymdrech i hybu a chynnal y sin gerddoriaeth wych sydd gennym yn y Canolbarth\, rydym yn rhoi llwyfan newydd ac ymroddedig i dalent cartref. Bydd gan y noson lein-yp gwahanol o 3 act bob yn ail fis\, gyda’r holl arian drws yn mynd yn syth i’r cerddorion sy’n ymwneud â chreu cerddoriaeth newydd wych yn lleol.
URL:https://thelostarc.co.uk/event/nos-wener-pizza/2026-07-31/
CATEGORIES:Bwyd
ATTACH;FMTTYPE=image/jpeg:https://thelostarc.co.uk/wp-content/uploads/2019/05/Pizza-oven.jpg
END:VEVENT
BEGIN:VEVENT
DTSTART;TZID=Europe/London:20260731T170000
DTEND;TZID=Europe/London:20260731T210000
DTSTAMP:20260420T110430
CREATED:20260129T104003Z
LAST-MODIFIED:20260129T104749Z
UID:10001504-1785517200-1785531600@thelostarc.co.uk
SUMMARY:Friday pizza night
DESCRIPTION:Pizza nights at the arc!\n\n\n\nFriday night is pizza night at The Lost ARC café! At the end of the week we fire up our amazing wood-fired over to cook delicious and fresh pizza\, so why not join us! \n\n\n\nBooking is recommended\, especially if there’s a gig on! Call the café to book on 01597811226. \n\n\n\n\n\n\n\n\n\n\n\n\n\n\n\nBook now!
URL:https://thelostarc.co.uk/event/friday-pizza-night/2026-07-31/
CATEGORIES:Food
ATTACH;FMTTYPE=image/jpeg:https://thelostarc.co.uk/wp-content/uploads/2019/05/Pizza-oven.jpg
END:VEVENT
END:VCALENDAR