BEGIN:VCALENDAR
VERSION:2.0
PRODID:-//The Lost Arc, Rhayader - ECPv6.15.20//NONSGML v1.0//EN
CALSCALE:GREGORIAN
METHOD:PUBLISH
X-ORIGINAL-URL:https://thelostarc.co.uk
X-WR-CALDESC:Events for The Lost Arc, Rhayader
REFRESH-INTERVAL;VALUE=DURATION:PT1H
X-Robots-Tag:noindex
X-PUBLISHED-TTL:PT1H
BEGIN:VTIMEZONE
TZID:Europe/London
BEGIN:DAYLIGHT
TZOFFSETFROM:+0000
TZOFFSETTO:+0100
TZNAME:BST
DTSTART:20250330T010000
END:DAYLIGHT
BEGIN:STANDARD
TZOFFSETFROM:+0100
TZOFFSETTO:+0000
TZNAME:GMT
DTSTART:20251026T010000
END:STANDARD
BEGIN:DAYLIGHT
TZOFFSETFROM:+0000
TZOFFSETTO:+0100
TZNAME:BST
DTSTART:20260329T010000
END:DAYLIGHT
BEGIN:STANDARD
TZOFFSETFROM:+0100
TZOFFSETTO:+0000
TZNAME:GMT
DTSTART:20261025T010000
END:STANDARD
BEGIN:DAYLIGHT
TZOFFSETFROM:+0000
TZOFFSETTO:+0100
TZNAME:BST
DTSTART:20270328T010000
END:DAYLIGHT
BEGIN:STANDARD
TZOFFSETFROM:+0100
TZOFFSETTO:+0000
TZNAME:GMT
DTSTART:20271031T010000
END:STANDARD
END:VTIMEZONE
BEGIN:VEVENT
DTSTART;TZID=Europe/London:20260302T193000
DTEND;TZID=Europe/London:20260302T223000
DTSTAMP:20260421T131851
CREATED:20250626T091106Z
LAST-MODIFIED:20250707T234146Z
UID:10001228-1772479800-1772490600@thelostarc.co.uk
SUMMARY:open mic
DESCRIPTION:A chance to get on our stage on the first Monday of every month! \n\n\n\nAll welcome\, with sign up from 7pm earliest. Songs\, stories\, jams\, poems and more. \n\n\n\nProfessional sound and a supportive audience guaranteed. Free entry\, bar open. \n\n\n\nFor more information search ‘The Lost Arc Open Mic‘ on facebook to join our group and make enquiries.
URL:https://thelostarc.co.uk/event/open-mic/2026-03-02/
CATEGORIES:Community
ATTACH;FMTTYPE=image/jpeg:https://thelostarc.co.uk/wp-content/uploads/2025/06/Open-Mic.jpg
END:VEVENT
BEGIN:VEVENT
DTSTART;TZID=Europe/London:20260305T193000
DTEND;TZID=Europe/London:20260305T220000
DTSTAMP:20260421T131851
CREATED:20260115T153017Z
LAST-MODIFIED:20260115T153020Z
UID:10001391-1772739000-1772748000@thelostarc.co.uk
SUMMARY:Williams | Thorne | Holmes
DESCRIPTION:Superb jazz from 3 of the most accomplished players on the UK scene. All have been regular visitors to the Lost ARC stage in various guises down the years and they return in a new trumpet-led trio format for this spring tour of Wales. \n\n\n\nTomos Williams is the trumpeter and band leader behind the fantastic Khamira and thought provoking ‘Cwmwl Tystion’ projects with a diverse array of influences including reimagined traditional folk music. \n\n\n\nAidan Thorne leads ground-breaking band ‘Duski’ and his compositions in duo with Toby Hay have explored the evocations of Welsh landscape. \n\n\n\nMatt Holmes is a rising star in the UK jazz scene\, composing new music and performing with jazz heavyweights such as Hermeto Pascoal and Tony Kofi. \n\n\n\n\n\n\n\nThis event will be SEATED. Anyone with accessibility concerns is welcome to call the venue to discuss. \n\n\n\n£10 advance\, £12.50 on the door.
URL:https://thelostarc.co.uk/event/williams-thorne-holmes-2/
CATEGORIES:Music
ATTACH;FMTTYPE=image/jpeg:https://thelostarc.co.uk/wp-content/uploads/2026/01/WilliamsThorneHolmes-1.jpg
END:VEVENT
BEGIN:VEVENT
DTSTART;TZID=Europe/London:20260306T170000
DTEND;TZID=Europe/London:20260306T210000
DTSTAMP:20260421T131851
CREATED:20241122T183907Z
LAST-MODIFIED:20251103T155439Z
UID:10000875-1772816400-1772830800@thelostarc.co.uk
SUMMARY:Nos Wener pizza
DESCRIPTION:Nosweithiau pizza wrth yr arc!\n\n\n\nyn noson newydd\, reolaidd o gerddoriaeth fyw wreiddiol o’n hardal leol. Mewn ymdrech i hybu a chynnal y sin gerddoriaeth wych sydd gennym yn y Canolbarth\, rydym yn rhoi llwyfan newydd ac ymroddedig i dalent cartref. Bydd gan y noson lein-yp gwahanol o 3 act bob yn ail fis\, gyda’r holl arian drws yn mynd yn syth i’r cerddorion sy’n ymwneud â chreu cerddoriaeth newydd wych yn lleol.
URL:https://thelostarc.co.uk/event/nos-wener-pizza/2026-03-06/
CATEGORIES:Bwyd
ATTACH;FMTTYPE=image/jpeg:https://thelostarc.co.uk/wp-content/uploads/2019/05/Pizza-oven.jpg
END:VEVENT
BEGIN:VEVENT
DTSTART;TZID=Europe/London:20260306T170000
DTEND;TZID=Europe/London:20260306T210000
DTSTAMP:20260421T131851
CREATED:20260129T104003Z
LAST-MODIFIED:20260129T104749Z
UID:10001483-1772816400-1772830800@thelostarc.co.uk
SUMMARY:Friday pizza night
DESCRIPTION:Pizza nights at the arc!\n\n\n\nFriday night is pizza night at The Lost ARC café! At the end of the week we fire up our amazing wood-fired over to cook delicious and fresh pizza\, so why not join us! \n\n\n\nBooking is recommended\, especially if there’s a gig on! Call the café to book on 01597811226. \n\n\n\n\n\n\n\n\n\n\n\n\n\n\n\nBook now!
URL:https://thelostarc.co.uk/event/friday-pizza-night/2026-03-06/
CATEGORIES:Food
ATTACH;FMTTYPE=image/jpeg:https://thelostarc.co.uk/wp-content/uploads/2019/05/Pizza-oven.jpg
END:VEVENT
BEGIN:VEVENT
DTSTART;TZID=Europe/London:20260308T144500
DTEND;TZID=Europe/London:20260308T163000
DTSTAMP:20260421T131851
CREATED:20260216T164209Z
LAST-MODIFIED:20260223T105114Z
UID:10001743-1772981100-1772987400@thelostarc.co.uk
SUMMARY:Scratch Choir Workshop with Liz Ikamba
DESCRIPTION:Liz Ikamba is offering two immersive singing workshops on Sundays 8th March and 12th April\, offering a workshop-to-performance experience\, where participants are invited to become the choir at Liz’s Lost Arc gig on 24th April! The workshops will take place between 2.45 and 4.30pm. \n\n\n\nBook your place… \n\n\n\nThrough call-and-response\, harmonies\, body percussion\, and improvisation\, Liz guides you to learn accessible song material\, and celebrate the body and voice you were born with. You’ll leave feeling energised\, connected\, and uplifted. \n\n\n\nPlus you’ll have the opportunity to join Liz as her live scratch choir on 24th April when she performs at The Lost ARC with west African virtuoso percussionist Amadou Diagne. \n\n\n\nBook your place…
URL:https://thelostarc.co.uk/event/scratch-choir-workshop-with-liz-ikamba/
CATEGORIES:Community
ATTACH;FMTTYPE=image/jpeg:https://thelostarc.co.uk/wp-content/uploads/2026/02/Lost-Arc-Scratch-choir-Landscape-for-web-D2.jpg
END:VEVENT
BEGIN:VEVENT
DTSTART;TZID=Europe/London:20260313T170000
DTEND;TZID=Europe/London:20260313T210000
DTSTAMP:20260421T131851
CREATED:20241122T183907Z
LAST-MODIFIED:20251103T155439Z
UID:10000876-1773421200-1773435600@thelostarc.co.uk
SUMMARY:Nos Wener pizza
DESCRIPTION:Nosweithiau pizza wrth yr arc!\n\n\n\nyn noson newydd\, reolaidd o gerddoriaeth fyw wreiddiol o’n hardal leol. Mewn ymdrech i hybu a chynnal y sin gerddoriaeth wych sydd gennym yn y Canolbarth\, rydym yn rhoi llwyfan newydd ac ymroddedig i dalent cartref. Bydd gan y noson lein-yp gwahanol o 3 act bob yn ail fis\, gyda’r holl arian drws yn mynd yn syth i’r cerddorion sy’n ymwneud â chreu cerddoriaeth newydd wych yn lleol.
URL:https://thelostarc.co.uk/event/nos-wener-pizza/2026-03-13/
CATEGORIES:Bwyd
ATTACH;FMTTYPE=image/jpeg:https://thelostarc.co.uk/wp-content/uploads/2019/05/Pizza-oven.jpg
END:VEVENT
BEGIN:VEVENT
DTSTART;TZID=Europe/London:20260313T170000
DTEND;TZID=Europe/London:20260313T210000
DTSTAMP:20260421T131851
CREATED:20260129T104003Z
LAST-MODIFIED:20260129T104749Z
UID:10001484-1773421200-1773435600@thelostarc.co.uk
SUMMARY:Friday pizza night
DESCRIPTION:Pizza nights at the arc!\n\n\n\nFriday night is pizza night at The Lost ARC café! At the end of the week we fire up our amazing wood-fired over to cook delicious and fresh pizza\, so why not join us! \n\n\n\nBooking is recommended\, especially if there’s a gig on! Call the café to book on 01597811226. \n\n\n\n\n\n\n\n\n\n\n\n\n\n\n\nBook now!
URL:https://thelostarc.co.uk/event/friday-pizza-night/2026-03-13/
CATEGORIES:Food
ATTACH;FMTTYPE=image/jpeg:https://thelostarc.co.uk/wp-content/uploads/2019/05/Pizza-oven.jpg
END:VEVENT
BEGIN:VEVENT
DTSTART;TZID=Europe/London:20260320T170000
DTEND;TZID=Europe/London:20260320T210000
DTSTAMP:20260421T131851
CREATED:20241122T183907Z
LAST-MODIFIED:20251103T155439Z
UID:10000877-1774026000-1774040400@thelostarc.co.uk
SUMMARY:Nos Wener pizza
DESCRIPTION:Nosweithiau pizza wrth yr arc!\n\n\n\nyn noson newydd\, reolaidd o gerddoriaeth fyw wreiddiol o’n hardal leol. Mewn ymdrech i hybu a chynnal y sin gerddoriaeth wych sydd gennym yn y Canolbarth\, rydym yn rhoi llwyfan newydd ac ymroddedig i dalent cartref. Bydd gan y noson lein-yp gwahanol o 3 act bob yn ail fis\, gyda’r holl arian drws yn mynd yn syth i’r cerddorion sy’n ymwneud â chreu cerddoriaeth newydd wych yn lleol.
URL:https://thelostarc.co.uk/event/nos-wener-pizza/2026-03-20/
CATEGORIES:Bwyd
ATTACH;FMTTYPE=image/jpeg:https://thelostarc.co.uk/wp-content/uploads/2019/05/Pizza-oven.jpg
END:VEVENT
BEGIN:VEVENT
DTSTART;TZID=Europe/London:20260320T170000
DTEND;TZID=Europe/London:20260320T210000
DTSTAMP:20260421T131851
CREATED:20260129T104003Z
LAST-MODIFIED:20260129T104749Z
UID:10001485-1774026000-1774040400@thelostarc.co.uk
SUMMARY:Friday pizza night
DESCRIPTION:Pizza nights at the arc!\n\n\n\nFriday night is pizza night at The Lost ARC café! At the end of the week we fire up our amazing wood-fired over to cook delicious and fresh pizza\, so why not join us! \n\n\n\nBooking is recommended\, especially if there’s a gig on! Call the café to book on 01597811226. \n\n\n\n\n\n\n\n\n\n\n\n\n\n\n\nBook now!
URL:https://thelostarc.co.uk/event/friday-pizza-night/2026-03-20/
CATEGORIES:Food
ATTACH;FMTTYPE=image/jpeg:https://thelostarc.co.uk/wp-content/uploads/2019/05/Pizza-oven.jpg
END:VEVENT
BEGIN:VEVENT
DTSTART;TZID=Europe/London:20260327T170000
DTEND;TZID=Europe/London:20260327T210000
DTSTAMP:20260421T131851
CREATED:20241122T183907Z
LAST-MODIFIED:20251103T155439Z
UID:10000878-1774630800-1774645200@thelostarc.co.uk
SUMMARY:Nos Wener pizza
DESCRIPTION:Nosweithiau pizza wrth yr arc!\n\n\n\nyn noson newydd\, reolaidd o gerddoriaeth fyw wreiddiol o’n hardal leol. Mewn ymdrech i hybu a chynnal y sin gerddoriaeth wych sydd gennym yn y Canolbarth\, rydym yn rhoi llwyfan newydd ac ymroddedig i dalent cartref. Bydd gan y noson lein-yp gwahanol o 3 act bob yn ail fis\, gyda’r holl arian drws yn mynd yn syth i’r cerddorion sy’n ymwneud â chreu cerddoriaeth newydd wych yn lleol.
URL:https://thelostarc.co.uk/event/nos-wener-pizza/2026-03-27/
CATEGORIES:Bwyd
ATTACH;FMTTYPE=image/jpeg:https://thelostarc.co.uk/wp-content/uploads/2019/05/Pizza-oven.jpg
END:VEVENT
BEGIN:VEVENT
DTSTART;TZID=Europe/London:20260327T170000
DTEND;TZID=Europe/London:20260327T210000
DTSTAMP:20260421T131851
CREATED:20260129T104003Z
LAST-MODIFIED:20260129T104749Z
UID:10001486-1774630800-1774645200@thelostarc.co.uk
SUMMARY:Friday pizza night
DESCRIPTION:Pizza nights at the arc!\n\n\n\nFriday night is pizza night at The Lost ARC café! At the end of the week we fire up our amazing wood-fired over to cook delicious and fresh pizza\, so why not join us! \n\n\n\nBooking is recommended\, especially if there’s a gig on! Call the café to book on 01597811226. \n\n\n\n\n\n\n\n\n\n\n\n\n\n\n\nBook now!
URL:https://thelostarc.co.uk/event/friday-pizza-night/2026-03-27/
CATEGORIES:Food
ATTACH;FMTTYPE=image/jpeg:https://thelostarc.co.uk/wp-content/uploads/2019/05/Pizza-oven.jpg
END:VEVENT
BEGIN:VEVENT
DTSTART;TZID=Europe/London:20260327T193000
DTEND;TZID=Europe/London:20260327T233000
DTSTAMP:20260421T131851
CREATED:20251218T125239Z
LAST-MODIFIED:20260211T110530Z
UID:10001389-1774639800-1774654200@thelostarc.co.uk
SUMMARY:China Shop Bull
DESCRIPTION:The Punk\, Rap\, Rave Apocalypse that is China Shop Bull\, has gained the hearts and respect of people around the world\, on the back of consistent touring and the success of three album releases thus far. They make their long awaited return to The Lost ARC on Friday 27th March ’26. \n\n\n\nFusing the worlds of electronic and live music\, china shop bull spans countless styles and genres; Drum & Bass\, Rap\, Rave\, Ska and Dub. All this mixed up and spat out with intense energy\, punk ethos and attitude – is guaranteed to get you jumping! \n\n\n\n\n\n\n\n\n\n \n\n\n\n This event will be mostly STANDING with seating always available on the balcony. Anyone with accessibility concerns is welcome to call the venue to discuss. \n\n\n\n£10 advance\, £12 on the door. \n\n\n\nAs this gig falls on a Friday there will be wood-fired pizza available from 5-9pm. \n\n\n\n\n“Watching China Shop Bull  at Boomtown Fair was like being on the receiving end of an energy grenade. It’s impossible not to dance to their unique and infectious music.”   \n\n\n\n– Big Blue Whale
URL:https://thelostarc.co.uk/event/china-shop-bull/
CATEGORIES:Music
ATTACH;FMTTYPE=image/jpeg:https://thelostarc.co.uk/wp-content/uploads/2025/12/CSB.jpg
END:VEVENT
BEGIN:VEVENT
DTSTART;TZID=Europe/London:20260328T193000
DTEND;TZID=Europe/London:20260328T230000
DTSTAMP:20260421T131851
CREATED:20251201T140857Z
LAST-MODIFIED:20260328T093904Z
UID:10001383-1774726200-1774738800@thelostarc.co.uk
SUMMARY:Cerys Hafana
DESCRIPTION:“An adept shapeshifter\, entwining tradition with direct and personal interpretations to create music that’s both progressive\, profound and inspiring.” \n\n\n\n – Alex Gallagher\, Folk Radio UK \n\n\n\n\nTHIS EVENT IS NOW SOLD OUT. There is NO ALLOCATION of tickets for the door\, please do not turn up without a ticket! \n\n\n\n Cerys Hafana is a composer and multi-instrumentalist who mangles\, mutates\, and transforms traditional music. They explore the creative possibilities and unique qualities of the triple harp\, and are also interested in found sounds\, archival materials and electronic processing. Cerys comes from Machynlleth\, Wales\, where rivers and roads meet on the way to the sea. \n\n\n\nCerys has won over audiences from Green Man to the Eisteddfod and from BBC 6 Music Festival to Celtic Connections with her magical\, progressive sound. \n\n\n\nEdyf\, their second album\, drew inspiration from material found in the Welsh National Library’s online archive\, including fragments of Psalm tunes\, hymns about doomsday and philosophical musings on the length of eternity\, along with some original compositions\, and was selected as one of The Guardian’s Top Ten folk albums of 2022. Cerys’ EP\, The Bitter was released in 2024 is an innovative exploration of some dark English and Scottish ballads. Hafana’s third and latest album Angel hit shelves in autumn 2025 to critical acclaim – earning a nomination for 2025’s Welsh Music Prize. \n\n\n\n\n\n\n\n\n\n\n“Hafana’s approach is endlessly inventive…” ★★★★ \n\n\n\n – The Guardian in review of Angel (2025) \n\n\n\n\nThis event will be  SEATED. Anyone with accessibility concerns is welcome to call the venue to discuss. \n\n\n\nSupport from In Kindness. Doors 7.30pm. £15 advance\, £18on the door. \n\n\n\nTHIS EVENT IS NOW SOLD OUT. There is NO ALLOCATION of tickets for the door\, please do not turn up without a ticket!
URL:https://thelostarc.co.uk/event/cerys-hafana/
CATEGORIES:Music
ATTACH;FMTTYPE=image/jpeg:https://thelostarc.co.uk/wp-content/uploads/2025/12/Cerys-Hafana-cropped.jpg
END:VEVENT
END:VCALENDAR