BEGIN:VCALENDAR
VERSION:2.0
PRODID:-//The Lost Arc, Rhayader - ECPv6.15.20//NONSGML v1.0//EN
CALSCALE:GREGORIAN
METHOD:PUBLISH
X-ORIGINAL-URL:https://thelostarc.co.uk
X-WR-CALDESC:Events for The Lost Arc, Rhayader
REFRESH-INTERVAL;VALUE=DURATION:PT1H
X-Robots-Tag:noindex
X-PUBLISHED-TTL:PT1H
BEGIN:VTIMEZONE
TZID:Europe/London
BEGIN:DAYLIGHT
TZOFFSETFROM:+0000
TZOFFSETTO:+0100
TZNAME:BST
DTSTART:20300331T010000
END:DAYLIGHT
BEGIN:STANDARD
TZOFFSETFROM:+0100
TZOFFSETTO:+0000
TZNAME:GMT
DTSTART:20301027T010000
END:STANDARD
BEGIN:DAYLIGHT
TZOFFSETFROM:+0000
TZOFFSETTO:+0100
TZNAME:BST
DTSTART:20310330T010000
END:DAYLIGHT
BEGIN:STANDARD
TZOFFSETFROM:+0100
TZOFFSETTO:+0000
TZNAME:GMT
DTSTART:20311026T010000
END:STANDARD
BEGIN:DAYLIGHT
TZOFFSETFROM:+0000
TZOFFSETTO:+0100
TZNAME:BST
DTSTART:20320328T010000
END:DAYLIGHT
BEGIN:STANDARD
TZOFFSETFROM:+0100
TZOFFSETTO:+0000
TZNAME:GMT
DTSTART:20321031T010000
END:STANDARD
END:VTIMEZONE
BEGIN:VEVENT
DTSTART;TZID=Europe/London:20310117T170000
DTEND;TZID=Europe/London:20310117T210000
DTSTAMP:20260421T202841
CREATED:20260129T104003Z
LAST-MODIFIED:20260129T104749Z
UID:10001737-1926435600-1926450000@thelostarc.co.uk
SUMMARY:Friday pizza night
DESCRIPTION:Pizza nights at the arc!\n\n\n\nFriday night is pizza night at The Lost ARC café! At the end of the week we fire up our amazing wood-fired over to cook delicious and fresh pizza\, so why not join us! \n\n\n\nBooking is recommended\, especially if there’s a gig on! Call the café to book on 01597811226. \n\n\n\n\n\n\n\n\n\n\n\n\n\n\n\nBook now!
URL:https://thelostarc.co.uk/event/friday-pizza-night/2031-01-17/
CATEGORIES:Food
ATTACH;FMTTYPE=image/jpeg:https://thelostarc.co.uk/wp-content/uploads/2019/05/Pizza-oven.jpg
END:VEVENT
BEGIN:VEVENT
DTSTART;TZID=Europe/London:20310124T170000
DTEND;TZID=Europe/London:20310124T210000
DTSTAMP:20260421T202841
CREATED:20241122T183907Z
LAST-MODIFIED:20251103T155439Z
UID:10001405-1927040400-1927054800@thelostarc.co.uk
SUMMARY:Nos Wener pizza
DESCRIPTION:Nosweithiau pizza wrth yr arc!\n\n\n\nyn noson newydd\, reolaidd o gerddoriaeth fyw wreiddiol o’n hardal leol. Mewn ymdrech i hybu a chynnal y sin gerddoriaeth wych sydd gennym yn y Canolbarth\, rydym yn rhoi llwyfan newydd ac ymroddedig i dalent cartref. Bydd gan y noson lein-yp gwahanol o 3 act bob yn ail fis\, gyda’r holl arian drws yn mynd yn syth i’r cerddorion sy’n ymwneud â chreu cerddoriaeth newydd wych yn lleol.
URL:https://thelostarc.co.uk/event/nos-wener-pizza/2031-01-24/
CATEGORIES:Bwyd
ATTACH;FMTTYPE=image/jpeg:https://thelostarc.co.uk/wp-content/uploads/2019/05/Pizza-oven.jpg
END:VEVENT
BEGIN:VEVENT
DTSTART;TZID=Europe/London:20310124T170000
DTEND;TZID=Europe/London:20310124T210000
DTSTAMP:20260421T202841
CREATED:20260129T104003Z
LAST-MODIFIED:20260129T104749Z
UID:10001738-1927040400-1927054800@thelostarc.co.uk
SUMMARY:Friday pizza night
DESCRIPTION:Pizza nights at the arc!\n\n\n\nFriday night is pizza night at The Lost ARC café! At the end of the week we fire up our amazing wood-fired over to cook delicious and fresh pizza\, so why not join us! \n\n\n\nBooking is recommended\, especially if there’s a gig on! Call the café to book on 01597811226. \n\n\n\n\n\n\n\n\n\n\n\n\n\n\n\nBook now!
URL:https://thelostarc.co.uk/event/friday-pizza-night/2031-01-24/
CATEGORIES:Food
ATTACH;FMTTYPE=image/jpeg:https://thelostarc.co.uk/wp-content/uploads/2019/05/Pizza-oven.jpg
END:VEVENT
END:VCALENDAR