BEGIN:VCALENDAR
VERSION:2.0
PRODID:-//The Lost Arc, Rhayader - ECPv6.15.20//NONSGML v1.0//EN
CALSCALE:GREGORIAN
METHOD:PUBLISH
X-ORIGINAL-URL:https://thelostarc.co.uk
X-WR-CALDESC:Events for The Lost Arc, Rhayader
REFRESH-INTERVAL;VALUE=DURATION:PT1H
X-Robots-Tag:noindex
X-PUBLISHED-TTL:PT1H
BEGIN:VTIMEZONE
TZID:Europe/London
BEGIN:DAYLIGHT
TZOFFSETFROM:+0000
TZOFFSETTO:+0100
TZNAME:BST
DTSTART:20270328T010000
END:DAYLIGHT
BEGIN:STANDARD
TZOFFSETFROM:+0100
TZOFFSETTO:+0000
TZNAME:GMT
DTSTART:20271031T010000
END:STANDARD
BEGIN:DAYLIGHT
TZOFFSETFROM:+0000
TZOFFSETTO:+0100
TZNAME:BST
DTSTART:20280326T010000
END:DAYLIGHT
BEGIN:STANDARD
TZOFFSETFROM:+0100
TZOFFSETTO:+0000
TZNAME:GMT
DTSTART:20281029T010000
END:STANDARD
BEGIN:DAYLIGHT
TZOFFSETFROM:+0000
TZOFFSETTO:+0100
TZNAME:BST
DTSTART:20290325T010000
END:DAYLIGHT
BEGIN:STANDARD
TZOFFSETFROM:+0100
TZOFFSETTO:+0000
TZNAME:GMT
DTSTART:20291028T010000
END:STANDARD
BEGIN:DAYLIGHT
TZOFFSETFROM:+0000
TZOFFSETTO:+0100
TZNAME:BST
DTSTART:20300331T010000
END:DAYLIGHT
BEGIN:STANDARD
TZOFFSETFROM:+0100
TZOFFSETTO:+0000
TZNAME:GMT
DTSTART:20301027T010000
END:STANDARD
END:VTIMEZONE
BEGIN:VEVENT
DTSTART;TZID=Europe/London:20281103T170000
DTEND;TZID=Europe/London:20281103T210000
DTSTAMP:20260420T104458
CREATED:20241122T183907Z
LAST-MODIFIED:20251103T155439Z
UID:10001014-1856883600-1856898000@thelostarc.co.uk
SUMMARY:Nos Wener pizza
DESCRIPTION:Nosweithiau pizza wrth yr arc!\n\n\n\nyn noson newydd\, reolaidd o gerddoriaeth fyw wreiddiol o’n hardal leol. Mewn ymdrech i hybu a chynnal y sin gerddoriaeth wych sydd gennym yn y Canolbarth\, rydym yn rhoi llwyfan newydd ac ymroddedig i dalent cartref. Bydd gan y noson lein-yp gwahanol o 3 act bob yn ail fis\, gyda’r holl arian drws yn mynd yn syth i’r cerddorion sy’n ymwneud â chreu cerddoriaeth newydd wych yn lleol.
URL:https://thelostarc.co.uk/event/nos-wener-pizza/2028-11-03/
CATEGORIES:Bwyd
ATTACH;FMTTYPE=image/jpeg:https://thelostarc.co.uk/wp-content/uploads/2019/05/Pizza-oven.jpg
END:VEVENT
BEGIN:VEVENT
DTSTART;TZID=Europe/London:20281103T170000
DTEND;TZID=Europe/London:20281103T210000
DTSTAMP:20260420T104458
CREATED:20260129T104003Z
LAST-MODIFIED:20260129T104749Z
UID:10001622-1856883600-1856898000@thelostarc.co.uk
SUMMARY:Friday pizza night
DESCRIPTION:Pizza nights at the arc!\n\n\n\nFriday night is pizza night at The Lost ARC café! At the end of the week we fire up our amazing wood-fired over to cook delicious and fresh pizza\, so why not join us! \n\n\n\nBooking is recommended\, especially if there’s a gig on! Call the café to book on 01597811226. \n\n\n\n\n\n\n\n\n\n\n\n\n\n\n\nBook now!
URL:https://thelostarc.co.uk/event/friday-pizza-night/2028-11-03/
CATEGORIES:Food
ATTACH;FMTTYPE=image/jpeg:https://thelostarc.co.uk/wp-content/uploads/2019/05/Pizza-oven.jpg
END:VEVENT
BEGIN:VEVENT
DTSTART;TZID=Europe/London:20281106T193000
DTEND;TZID=Europe/London:20281106T223000
DTSTAMP:20260420T104458
CREATED:20250626T091106Z
LAST-MODIFIED:20250707T234146Z
UID:10001260-1857151800-1857162600@thelostarc.co.uk
SUMMARY:open mic
DESCRIPTION:A chance to get on our stage on the first Monday of every month! \n\n\n\nAll welcome\, with sign up from 7pm earliest. Songs\, stories\, jams\, poems and more. \n\n\n\nProfessional sound and a supportive audience guaranteed. Free entry\, bar open. \n\n\n\nFor more information search ‘The Lost Arc Open Mic‘ on facebook to join our group and make enquiries.
URL:https://thelostarc.co.uk/event/open-mic/2028-11-06/
CATEGORIES:Community
ATTACH;FMTTYPE=image/jpeg:https://thelostarc.co.uk/wp-content/uploads/2025/06/Open-Mic.jpg
END:VEVENT
BEGIN:VEVENT
DTSTART;TZID=Europe/London:20281110T170000
DTEND;TZID=Europe/London:20281110T210000
DTSTAMP:20260420T104458
CREATED:20241122T183907Z
LAST-MODIFIED:20251103T155439Z
UID:10001015-1857488400-1857502800@thelostarc.co.uk
SUMMARY:Nos Wener pizza
DESCRIPTION:Nosweithiau pizza wrth yr arc!\n\n\n\nyn noson newydd\, reolaidd o gerddoriaeth fyw wreiddiol o’n hardal leol. Mewn ymdrech i hybu a chynnal y sin gerddoriaeth wych sydd gennym yn y Canolbarth\, rydym yn rhoi llwyfan newydd ac ymroddedig i dalent cartref. Bydd gan y noson lein-yp gwahanol o 3 act bob yn ail fis\, gyda’r holl arian drws yn mynd yn syth i’r cerddorion sy’n ymwneud â chreu cerddoriaeth newydd wych yn lleol.
URL:https://thelostarc.co.uk/event/nos-wener-pizza/2028-11-10/
CATEGORIES:Bwyd
ATTACH;FMTTYPE=image/jpeg:https://thelostarc.co.uk/wp-content/uploads/2019/05/Pizza-oven.jpg
END:VEVENT
BEGIN:VEVENT
DTSTART;TZID=Europe/London:20281110T170000
DTEND;TZID=Europe/London:20281110T210000
DTSTAMP:20260420T104458
CREATED:20260129T104003Z
LAST-MODIFIED:20260129T104749Z
UID:10001623-1857488400-1857502800@thelostarc.co.uk
SUMMARY:Friday pizza night
DESCRIPTION:Pizza nights at the arc!\n\n\n\nFriday night is pizza night at The Lost ARC café! At the end of the week we fire up our amazing wood-fired over to cook delicious and fresh pizza\, so why not join us! \n\n\n\nBooking is recommended\, especially if there’s a gig on! Call the café to book on 01597811226. \n\n\n\n\n\n\n\n\n\n\n\n\n\n\n\nBook now!
URL:https://thelostarc.co.uk/event/friday-pizza-night/2028-11-10/
CATEGORIES:Food
ATTACH;FMTTYPE=image/jpeg:https://thelostarc.co.uk/wp-content/uploads/2019/05/Pizza-oven.jpg
END:VEVENT
BEGIN:VEVENT
DTSTART;TZID=Europe/London:20281117T170000
DTEND;TZID=Europe/London:20281117T210000
DTSTAMP:20260420T104458
CREATED:20241122T183907Z
LAST-MODIFIED:20251103T155439Z
UID:10001016-1858093200-1858107600@thelostarc.co.uk
SUMMARY:Nos Wener pizza
DESCRIPTION:Nosweithiau pizza wrth yr arc!\n\n\n\nyn noson newydd\, reolaidd o gerddoriaeth fyw wreiddiol o’n hardal leol. Mewn ymdrech i hybu a chynnal y sin gerddoriaeth wych sydd gennym yn y Canolbarth\, rydym yn rhoi llwyfan newydd ac ymroddedig i dalent cartref. Bydd gan y noson lein-yp gwahanol o 3 act bob yn ail fis\, gyda’r holl arian drws yn mynd yn syth i’r cerddorion sy’n ymwneud â chreu cerddoriaeth newydd wych yn lleol.
URL:https://thelostarc.co.uk/event/nos-wener-pizza/2028-11-17/
CATEGORIES:Bwyd
ATTACH;FMTTYPE=image/jpeg:https://thelostarc.co.uk/wp-content/uploads/2019/05/Pizza-oven.jpg
END:VEVENT
BEGIN:VEVENT
DTSTART;TZID=Europe/London:20281117T170000
DTEND;TZID=Europe/London:20281117T210000
DTSTAMP:20260420T104458
CREATED:20260129T104003Z
LAST-MODIFIED:20260129T104749Z
UID:10001624-1858093200-1858107600@thelostarc.co.uk
SUMMARY:Friday pizza night
DESCRIPTION:Pizza nights at the arc!\n\n\n\nFriday night is pizza night at The Lost ARC café! At the end of the week we fire up our amazing wood-fired over to cook delicious and fresh pizza\, so why not join us! \n\n\n\nBooking is recommended\, especially if there’s a gig on! Call the café to book on 01597811226. \n\n\n\n\n\n\n\n\n\n\n\n\n\n\n\nBook now!
URL:https://thelostarc.co.uk/event/friday-pizza-night/2028-11-17/
CATEGORIES:Food
ATTACH;FMTTYPE=image/jpeg:https://thelostarc.co.uk/wp-content/uploads/2019/05/Pizza-oven.jpg
END:VEVENT
BEGIN:VEVENT
DTSTART;TZID=Europe/London:20281124T170000
DTEND;TZID=Europe/London:20281124T210000
DTSTAMP:20260420T104458
CREATED:20241122T183907Z
LAST-MODIFIED:20251103T155439Z
UID:10001017-1858698000-1858712400@thelostarc.co.uk
SUMMARY:Nos Wener pizza
DESCRIPTION:Nosweithiau pizza wrth yr arc!\n\n\n\nyn noson newydd\, reolaidd o gerddoriaeth fyw wreiddiol o’n hardal leol. Mewn ymdrech i hybu a chynnal y sin gerddoriaeth wych sydd gennym yn y Canolbarth\, rydym yn rhoi llwyfan newydd ac ymroddedig i dalent cartref. Bydd gan y noson lein-yp gwahanol o 3 act bob yn ail fis\, gyda’r holl arian drws yn mynd yn syth i’r cerddorion sy’n ymwneud â chreu cerddoriaeth newydd wych yn lleol.
URL:https://thelostarc.co.uk/event/nos-wener-pizza/2028-11-24/
CATEGORIES:Bwyd
ATTACH;FMTTYPE=image/jpeg:https://thelostarc.co.uk/wp-content/uploads/2019/05/Pizza-oven.jpg
END:VEVENT
BEGIN:VEVENT
DTSTART;TZID=Europe/London:20281124T170000
DTEND;TZID=Europe/London:20281124T210000
DTSTAMP:20260420T104458
CREATED:20260129T104003Z
LAST-MODIFIED:20260129T104749Z
UID:10001625-1858698000-1858712400@thelostarc.co.uk
SUMMARY:Friday pizza night
DESCRIPTION:Pizza nights at the arc!\n\n\n\nFriday night is pizza night at The Lost ARC café! At the end of the week we fire up our amazing wood-fired over to cook delicious and fresh pizza\, so why not join us! \n\n\n\nBooking is recommended\, especially if there’s a gig on! Call the café to book on 01597811226. \n\n\n\n\n\n\n\n\n\n\n\n\n\n\n\nBook now!
URL:https://thelostarc.co.uk/event/friday-pizza-night/2028-11-24/
CATEGORIES:Food
ATTACH;FMTTYPE=image/jpeg:https://thelostarc.co.uk/wp-content/uploads/2019/05/Pizza-oven.jpg
END:VEVENT
BEGIN:VEVENT
DTSTART;TZID=Europe/London:20281201T170000
DTEND;TZID=Europe/London:20281201T210000
DTSTAMP:20260420T104458
CREATED:20241122T183907Z
LAST-MODIFIED:20251103T155439Z
UID:10001018-1859302800-1859317200@thelostarc.co.uk
SUMMARY:Nos Wener pizza
DESCRIPTION:Nosweithiau pizza wrth yr arc!\n\n\n\nyn noson newydd\, reolaidd o gerddoriaeth fyw wreiddiol o’n hardal leol. Mewn ymdrech i hybu a chynnal y sin gerddoriaeth wych sydd gennym yn y Canolbarth\, rydym yn rhoi llwyfan newydd ac ymroddedig i dalent cartref. Bydd gan y noson lein-yp gwahanol o 3 act bob yn ail fis\, gyda’r holl arian drws yn mynd yn syth i’r cerddorion sy’n ymwneud â chreu cerddoriaeth newydd wych yn lleol.
URL:https://thelostarc.co.uk/event/nos-wener-pizza/2028-12-01/
CATEGORIES:Bwyd
ATTACH;FMTTYPE=image/jpeg:https://thelostarc.co.uk/wp-content/uploads/2019/05/Pizza-oven.jpg
END:VEVENT
BEGIN:VEVENT
DTSTART;TZID=Europe/London:20281201T170000
DTEND;TZID=Europe/London:20281201T210000
DTSTAMP:20260420T104458
CREATED:20260129T104003Z
LAST-MODIFIED:20260129T104749Z
UID:10001626-1859302800-1859317200@thelostarc.co.uk
SUMMARY:Friday pizza night
DESCRIPTION:Pizza nights at the arc!\n\n\n\nFriday night is pizza night at The Lost ARC café! At the end of the week we fire up our amazing wood-fired over to cook delicious and fresh pizza\, so why not join us! \n\n\n\nBooking is recommended\, especially if there’s a gig on! Call the café to book on 01597811226. \n\n\n\n\n\n\n\n\n\n\n\n\n\n\n\nBook now!
URL:https://thelostarc.co.uk/event/friday-pizza-night/2028-12-01/
CATEGORIES:Food
ATTACH;FMTTYPE=image/jpeg:https://thelostarc.co.uk/wp-content/uploads/2019/05/Pizza-oven.jpg
END:VEVENT
BEGIN:VEVENT
DTSTART;TZID=Europe/London:20281204T193000
DTEND;TZID=Europe/London:20281204T223000
DTSTAMP:20260420T104458
CREATED:20250626T091106Z
LAST-MODIFIED:20250707T234146Z
UID:10001261-1859571000-1859581800@thelostarc.co.uk
SUMMARY:open mic
DESCRIPTION:A chance to get on our stage on the first Monday of every month! \n\n\n\nAll welcome\, with sign up from 7pm earliest. Songs\, stories\, jams\, poems and more. \n\n\n\nProfessional sound and a supportive audience guaranteed. Free entry\, bar open. \n\n\n\nFor more information search ‘The Lost Arc Open Mic‘ on facebook to join our group and make enquiries.
URL:https://thelostarc.co.uk/event/open-mic/2028-12-04/
CATEGORIES:Community
ATTACH;FMTTYPE=image/jpeg:https://thelostarc.co.uk/wp-content/uploads/2025/06/Open-Mic.jpg
END:VEVENT
BEGIN:VEVENT
DTSTART;TZID=Europe/London:20281208T170000
DTEND;TZID=Europe/London:20281208T210000
DTSTAMP:20260420T104458
CREATED:20241122T183907Z
LAST-MODIFIED:20251103T155439Z
UID:10001019-1859907600-1859922000@thelostarc.co.uk
SUMMARY:Nos Wener pizza
DESCRIPTION:Nosweithiau pizza wrth yr arc!\n\n\n\nyn noson newydd\, reolaidd o gerddoriaeth fyw wreiddiol o’n hardal leol. Mewn ymdrech i hybu a chynnal y sin gerddoriaeth wych sydd gennym yn y Canolbarth\, rydym yn rhoi llwyfan newydd ac ymroddedig i dalent cartref. Bydd gan y noson lein-yp gwahanol o 3 act bob yn ail fis\, gyda’r holl arian drws yn mynd yn syth i’r cerddorion sy’n ymwneud â chreu cerddoriaeth newydd wych yn lleol.
URL:https://thelostarc.co.uk/event/nos-wener-pizza/2028-12-08/
CATEGORIES:Bwyd
ATTACH;FMTTYPE=image/jpeg:https://thelostarc.co.uk/wp-content/uploads/2019/05/Pizza-oven.jpg
END:VEVENT
BEGIN:VEVENT
DTSTART;TZID=Europe/London:20281208T170000
DTEND;TZID=Europe/London:20281208T210000
DTSTAMP:20260420T104458
CREATED:20260129T104003Z
LAST-MODIFIED:20260129T104749Z
UID:10001627-1859907600-1859922000@thelostarc.co.uk
SUMMARY:Friday pizza night
DESCRIPTION:Pizza nights at the arc!\n\n\n\nFriday night is pizza night at The Lost ARC café! At the end of the week we fire up our amazing wood-fired over to cook delicious and fresh pizza\, so why not join us! \n\n\n\nBooking is recommended\, especially if there’s a gig on! Call the café to book on 01597811226. \n\n\n\n\n\n\n\n\n\n\n\n\n\n\n\nBook now!
URL:https://thelostarc.co.uk/event/friday-pizza-night/2028-12-08/
CATEGORIES:Food
ATTACH;FMTTYPE=image/jpeg:https://thelostarc.co.uk/wp-content/uploads/2019/05/Pizza-oven.jpg
END:VEVENT
BEGIN:VEVENT
DTSTART;TZID=Europe/London:20281215T170000
DTEND;TZID=Europe/London:20281215T210000
DTSTAMP:20260420T104458
CREATED:20241122T183907Z
LAST-MODIFIED:20251103T155439Z
UID:10001020-1860512400-1860526800@thelostarc.co.uk
SUMMARY:Nos Wener pizza
DESCRIPTION:Nosweithiau pizza wrth yr arc!\n\n\n\nyn noson newydd\, reolaidd o gerddoriaeth fyw wreiddiol o’n hardal leol. Mewn ymdrech i hybu a chynnal y sin gerddoriaeth wych sydd gennym yn y Canolbarth\, rydym yn rhoi llwyfan newydd ac ymroddedig i dalent cartref. Bydd gan y noson lein-yp gwahanol o 3 act bob yn ail fis\, gyda’r holl arian drws yn mynd yn syth i’r cerddorion sy’n ymwneud â chreu cerddoriaeth newydd wych yn lleol.
URL:https://thelostarc.co.uk/event/nos-wener-pizza/2028-12-15/
CATEGORIES:Bwyd
ATTACH;FMTTYPE=image/jpeg:https://thelostarc.co.uk/wp-content/uploads/2019/05/Pizza-oven.jpg
END:VEVENT
BEGIN:VEVENT
DTSTART;TZID=Europe/London:20281215T170000
DTEND;TZID=Europe/London:20281215T210000
DTSTAMP:20260420T104458
CREATED:20260129T104003Z
LAST-MODIFIED:20260129T104749Z
UID:10001628-1860512400-1860526800@thelostarc.co.uk
SUMMARY:Friday pizza night
DESCRIPTION:Pizza nights at the arc!\n\n\n\nFriday night is pizza night at The Lost ARC café! At the end of the week we fire up our amazing wood-fired over to cook delicious and fresh pizza\, so why not join us! \n\n\n\nBooking is recommended\, especially if there’s a gig on! Call the café to book on 01597811226. \n\n\n\n\n\n\n\n\n\n\n\n\n\n\n\nBook now!
URL:https://thelostarc.co.uk/event/friday-pizza-night/2028-12-15/
CATEGORIES:Food
ATTACH;FMTTYPE=image/jpeg:https://thelostarc.co.uk/wp-content/uploads/2019/05/Pizza-oven.jpg
END:VEVENT
BEGIN:VEVENT
DTSTART;TZID=Europe/London:20281222T170000
DTEND;TZID=Europe/London:20281222T210000
DTSTAMP:20260420T104458
CREATED:20241122T183907Z
LAST-MODIFIED:20251103T155439Z
UID:10001021-1861117200-1861131600@thelostarc.co.uk
SUMMARY:Nos Wener pizza
DESCRIPTION:Nosweithiau pizza wrth yr arc!\n\n\n\nyn noson newydd\, reolaidd o gerddoriaeth fyw wreiddiol o’n hardal leol. Mewn ymdrech i hybu a chynnal y sin gerddoriaeth wych sydd gennym yn y Canolbarth\, rydym yn rhoi llwyfan newydd ac ymroddedig i dalent cartref. Bydd gan y noson lein-yp gwahanol o 3 act bob yn ail fis\, gyda’r holl arian drws yn mynd yn syth i’r cerddorion sy’n ymwneud â chreu cerddoriaeth newydd wych yn lleol.
URL:https://thelostarc.co.uk/event/nos-wener-pizza/2028-12-22/
CATEGORIES:Bwyd
ATTACH;FMTTYPE=image/jpeg:https://thelostarc.co.uk/wp-content/uploads/2019/05/Pizza-oven.jpg
END:VEVENT
BEGIN:VEVENT
DTSTART;TZID=Europe/London:20281222T170000
DTEND;TZID=Europe/London:20281222T210000
DTSTAMP:20260420T104458
CREATED:20260129T104003Z
LAST-MODIFIED:20260129T104749Z
UID:10001629-1861117200-1861131600@thelostarc.co.uk
SUMMARY:Friday pizza night
DESCRIPTION:Pizza nights at the arc!\n\n\n\nFriday night is pizza night at The Lost ARC café! At the end of the week we fire up our amazing wood-fired over to cook delicious and fresh pizza\, so why not join us! \n\n\n\nBooking is recommended\, especially if there’s a gig on! Call the café to book on 01597811226. \n\n\n\n\n\n\n\n\n\n\n\n\n\n\n\nBook now!
URL:https://thelostarc.co.uk/event/friday-pizza-night/2028-12-22/
CATEGORIES:Food
ATTACH;FMTTYPE=image/jpeg:https://thelostarc.co.uk/wp-content/uploads/2019/05/Pizza-oven.jpg
END:VEVENT
BEGIN:VEVENT
DTSTART;TZID=Europe/London:20281229T170000
DTEND;TZID=Europe/London:20281229T210000
DTSTAMP:20260420T104458
CREATED:20241122T183907Z
LAST-MODIFIED:20251103T155439Z
UID:10001022-1861722000-1861736400@thelostarc.co.uk
SUMMARY:Nos Wener pizza
DESCRIPTION:Nosweithiau pizza wrth yr arc!\n\n\n\nyn noson newydd\, reolaidd o gerddoriaeth fyw wreiddiol o’n hardal leol. Mewn ymdrech i hybu a chynnal y sin gerddoriaeth wych sydd gennym yn y Canolbarth\, rydym yn rhoi llwyfan newydd ac ymroddedig i dalent cartref. Bydd gan y noson lein-yp gwahanol o 3 act bob yn ail fis\, gyda’r holl arian drws yn mynd yn syth i’r cerddorion sy’n ymwneud â chreu cerddoriaeth newydd wych yn lleol.
URL:https://thelostarc.co.uk/event/nos-wener-pizza/2028-12-29/
CATEGORIES:Bwyd
ATTACH;FMTTYPE=image/jpeg:https://thelostarc.co.uk/wp-content/uploads/2019/05/Pizza-oven.jpg
END:VEVENT
BEGIN:VEVENT
DTSTART;TZID=Europe/London:20281229T170000
DTEND;TZID=Europe/London:20281229T210000
DTSTAMP:20260420T104458
CREATED:20260129T104003Z
LAST-MODIFIED:20260129T104749Z
UID:10001630-1861722000-1861736400@thelostarc.co.uk
SUMMARY:Friday pizza night
DESCRIPTION:Pizza nights at the arc!\n\n\n\nFriday night is pizza night at The Lost ARC café! At the end of the week we fire up our amazing wood-fired over to cook delicious and fresh pizza\, so why not join us! \n\n\n\nBooking is recommended\, especially if there’s a gig on! Call the café to book on 01597811226. \n\n\n\n\n\n\n\n\n\n\n\n\n\n\n\nBook now!
URL:https://thelostarc.co.uk/event/friday-pizza-night/2028-12-29/
CATEGORIES:Food
ATTACH;FMTTYPE=image/jpeg:https://thelostarc.co.uk/wp-content/uploads/2019/05/Pizza-oven.jpg
END:VEVENT
BEGIN:VEVENT
DTSTART;TZID=Europe/London:20290101T193000
DTEND;TZID=Europe/London:20290101T223000
DTSTAMP:20260420T104458
CREATED:20250626T091106Z
LAST-MODIFIED:20250707T234146Z
UID:10001262-1861990200-1862001000@thelostarc.co.uk
SUMMARY:open mic
DESCRIPTION:A chance to get on our stage on the first Monday of every month! \n\n\n\nAll welcome\, with sign up from 7pm earliest. Songs\, stories\, jams\, poems and more. \n\n\n\nProfessional sound and a supportive audience guaranteed. Free entry\, bar open. \n\n\n\nFor more information search ‘The Lost Arc Open Mic‘ on facebook to join our group and make enquiries.
URL:https://thelostarc.co.uk/event/open-mic/2029-01-01/
CATEGORIES:Community
ATTACH;FMTTYPE=image/jpeg:https://thelostarc.co.uk/wp-content/uploads/2025/06/Open-Mic.jpg
END:VEVENT
BEGIN:VEVENT
DTSTART;TZID=Europe/London:20290105T170000
DTEND;TZID=Europe/London:20290105T210000
DTSTAMP:20260420T104458
CREATED:20241122T183907Z
LAST-MODIFIED:20251103T155439Z
UID:10001023-1862326800-1862341200@thelostarc.co.uk
SUMMARY:Nos Wener pizza
DESCRIPTION:Nosweithiau pizza wrth yr arc!\n\n\n\nyn noson newydd\, reolaidd o gerddoriaeth fyw wreiddiol o’n hardal leol. Mewn ymdrech i hybu a chynnal y sin gerddoriaeth wych sydd gennym yn y Canolbarth\, rydym yn rhoi llwyfan newydd ac ymroddedig i dalent cartref. Bydd gan y noson lein-yp gwahanol o 3 act bob yn ail fis\, gyda’r holl arian drws yn mynd yn syth i’r cerddorion sy’n ymwneud â chreu cerddoriaeth newydd wych yn lleol.
URL:https://thelostarc.co.uk/event/nos-wener-pizza/2029-01-05/
CATEGORIES:Bwyd
ATTACH;FMTTYPE=image/jpeg:https://thelostarc.co.uk/wp-content/uploads/2019/05/Pizza-oven.jpg
END:VEVENT
BEGIN:VEVENT
DTSTART;TZID=Europe/London:20290105T170000
DTEND;TZID=Europe/London:20290105T210000
DTSTAMP:20260420T104458
CREATED:20260129T104003Z
LAST-MODIFIED:20260129T104749Z
UID:10001631-1862326800-1862341200@thelostarc.co.uk
SUMMARY:Friday pizza night
DESCRIPTION:Pizza nights at the arc!\n\n\n\nFriday night is pizza night at The Lost ARC café! At the end of the week we fire up our amazing wood-fired over to cook delicious and fresh pizza\, so why not join us! \n\n\n\nBooking is recommended\, especially if there’s a gig on! Call the café to book on 01597811226. \n\n\n\n\n\n\n\n\n\n\n\n\n\n\n\nBook now!
URL:https://thelostarc.co.uk/event/friday-pizza-night/2029-01-05/
CATEGORIES:Food
ATTACH;FMTTYPE=image/jpeg:https://thelostarc.co.uk/wp-content/uploads/2019/05/Pizza-oven.jpg
END:VEVENT
BEGIN:VEVENT
DTSTART;TZID=Europe/London:20290112T170000
DTEND;TZID=Europe/London:20290112T210000
DTSTAMP:20260420T104458
CREATED:20241122T183907Z
LAST-MODIFIED:20251103T155439Z
UID:10001024-1862931600-1862946000@thelostarc.co.uk
SUMMARY:Nos Wener pizza
DESCRIPTION:Nosweithiau pizza wrth yr arc!\n\n\n\nyn noson newydd\, reolaidd o gerddoriaeth fyw wreiddiol o’n hardal leol. Mewn ymdrech i hybu a chynnal y sin gerddoriaeth wych sydd gennym yn y Canolbarth\, rydym yn rhoi llwyfan newydd ac ymroddedig i dalent cartref. Bydd gan y noson lein-yp gwahanol o 3 act bob yn ail fis\, gyda’r holl arian drws yn mynd yn syth i’r cerddorion sy’n ymwneud â chreu cerddoriaeth newydd wych yn lleol.
URL:https://thelostarc.co.uk/event/nos-wener-pizza/2029-01-12/
CATEGORIES:Bwyd
ATTACH;FMTTYPE=image/jpeg:https://thelostarc.co.uk/wp-content/uploads/2019/05/Pizza-oven.jpg
END:VEVENT
BEGIN:VEVENT
DTSTART;TZID=Europe/London:20290112T170000
DTEND;TZID=Europe/London:20290112T210000
DTSTAMP:20260420T104458
CREATED:20260129T104003Z
LAST-MODIFIED:20260129T104749Z
UID:10001632-1862931600-1862946000@thelostarc.co.uk
SUMMARY:Friday pizza night
DESCRIPTION:Pizza nights at the arc!\n\n\n\nFriday night is pizza night at The Lost ARC café! At the end of the week we fire up our amazing wood-fired over to cook delicious and fresh pizza\, so why not join us! \n\n\n\nBooking is recommended\, especially if there’s a gig on! Call the café to book on 01597811226. \n\n\n\n\n\n\n\n\n\n\n\n\n\n\n\nBook now!
URL:https://thelostarc.co.uk/event/friday-pizza-night/2029-01-12/
CATEGORIES:Food
ATTACH;FMTTYPE=image/jpeg:https://thelostarc.co.uk/wp-content/uploads/2019/05/Pizza-oven.jpg
END:VEVENT
BEGIN:VEVENT
DTSTART;TZID=Europe/London:20290119T170000
DTEND;TZID=Europe/London:20290119T210000
DTSTAMP:20260420T104458
CREATED:20241122T183907Z
LAST-MODIFIED:20251103T155439Z
UID:10001025-1863536400-1863550800@thelostarc.co.uk
SUMMARY:Nos Wener pizza
DESCRIPTION:Nosweithiau pizza wrth yr arc!\n\n\n\nyn noson newydd\, reolaidd o gerddoriaeth fyw wreiddiol o’n hardal leol. Mewn ymdrech i hybu a chynnal y sin gerddoriaeth wych sydd gennym yn y Canolbarth\, rydym yn rhoi llwyfan newydd ac ymroddedig i dalent cartref. Bydd gan y noson lein-yp gwahanol o 3 act bob yn ail fis\, gyda’r holl arian drws yn mynd yn syth i’r cerddorion sy’n ymwneud â chreu cerddoriaeth newydd wych yn lleol.
URL:https://thelostarc.co.uk/event/nos-wener-pizza/2029-01-19/
CATEGORIES:Bwyd
ATTACH;FMTTYPE=image/jpeg:https://thelostarc.co.uk/wp-content/uploads/2019/05/Pizza-oven.jpg
END:VEVENT
BEGIN:VEVENT
DTSTART;TZID=Europe/London:20290119T170000
DTEND;TZID=Europe/London:20290119T210000
DTSTAMP:20260420T104458
CREATED:20260129T104003Z
LAST-MODIFIED:20260129T104749Z
UID:10001633-1863536400-1863550800@thelostarc.co.uk
SUMMARY:Friday pizza night
DESCRIPTION:Pizza nights at the arc!\n\n\n\nFriday night is pizza night at The Lost ARC café! At the end of the week we fire up our amazing wood-fired over to cook delicious and fresh pizza\, so why not join us! \n\n\n\nBooking is recommended\, especially if there’s a gig on! Call the café to book on 01597811226. \n\n\n\n\n\n\n\n\n\n\n\n\n\n\n\nBook now!
URL:https://thelostarc.co.uk/event/friday-pizza-night/2029-01-19/
CATEGORIES:Food
ATTACH;FMTTYPE=image/jpeg:https://thelostarc.co.uk/wp-content/uploads/2019/05/Pizza-oven.jpg
END:VEVENT
BEGIN:VEVENT
DTSTART;TZID=Europe/London:20290126T170000
DTEND;TZID=Europe/London:20290126T210000
DTSTAMP:20260420T104458
CREATED:20241122T183907Z
LAST-MODIFIED:20251103T155439Z
UID:10001026-1864141200-1864155600@thelostarc.co.uk
SUMMARY:Nos Wener pizza
DESCRIPTION:Nosweithiau pizza wrth yr arc!\n\n\n\nyn noson newydd\, reolaidd o gerddoriaeth fyw wreiddiol o’n hardal leol. Mewn ymdrech i hybu a chynnal y sin gerddoriaeth wych sydd gennym yn y Canolbarth\, rydym yn rhoi llwyfan newydd ac ymroddedig i dalent cartref. Bydd gan y noson lein-yp gwahanol o 3 act bob yn ail fis\, gyda’r holl arian drws yn mynd yn syth i’r cerddorion sy’n ymwneud â chreu cerddoriaeth newydd wych yn lleol.
URL:https://thelostarc.co.uk/event/nos-wener-pizza/2029-01-26/
CATEGORIES:Bwyd
ATTACH;FMTTYPE=image/jpeg:https://thelostarc.co.uk/wp-content/uploads/2019/05/Pizza-oven.jpg
END:VEVENT
BEGIN:VEVENT
DTSTART;TZID=Europe/London:20290126T170000
DTEND;TZID=Europe/London:20290126T210000
DTSTAMP:20260420T104458
CREATED:20260129T104003Z
LAST-MODIFIED:20260129T104749Z
UID:10001634-1864141200-1864155600@thelostarc.co.uk
SUMMARY:Friday pizza night
DESCRIPTION:Pizza nights at the arc!\n\n\n\nFriday night is pizza night at The Lost ARC café! At the end of the week we fire up our amazing wood-fired over to cook delicious and fresh pizza\, so why not join us! \n\n\n\nBooking is recommended\, especially if there’s a gig on! Call the café to book on 01597811226. \n\n\n\n\n\n\n\n\n\n\n\n\n\n\n\nBook now!
URL:https://thelostarc.co.uk/event/friday-pizza-night/2029-01-26/
CATEGORIES:Food
ATTACH;FMTTYPE=image/jpeg:https://thelostarc.co.uk/wp-content/uploads/2019/05/Pizza-oven.jpg
END:VEVENT
BEGIN:VEVENT
DTSTART;TZID=Europe/London:20290202T170000
DTEND;TZID=Europe/London:20290202T210000
DTSTAMP:20260420T104458
CREATED:20241122T183907Z
LAST-MODIFIED:20251103T155439Z
UID:10001027-1864746000-1864760400@thelostarc.co.uk
SUMMARY:Nos Wener pizza
DESCRIPTION:Nosweithiau pizza wrth yr arc!\n\n\n\nyn noson newydd\, reolaidd o gerddoriaeth fyw wreiddiol o’n hardal leol. Mewn ymdrech i hybu a chynnal y sin gerddoriaeth wych sydd gennym yn y Canolbarth\, rydym yn rhoi llwyfan newydd ac ymroddedig i dalent cartref. Bydd gan y noson lein-yp gwahanol o 3 act bob yn ail fis\, gyda’r holl arian drws yn mynd yn syth i’r cerddorion sy’n ymwneud â chreu cerddoriaeth newydd wych yn lleol.
URL:https://thelostarc.co.uk/event/nos-wener-pizza/2029-02-02/
CATEGORIES:Bwyd
ATTACH;FMTTYPE=image/jpeg:https://thelostarc.co.uk/wp-content/uploads/2019/05/Pizza-oven.jpg
END:VEVENT
END:VCALENDAR