BEGIN:VCALENDAR
VERSION:2.0
PRODID:-//The Lost Arc, Rhayader - ECPv6.15.20//NONSGML v1.0//EN
CALSCALE:GREGORIAN
METHOD:PUBLISH
X-WR-CALNAME:The Lost Arc, Rhayader
X-ORIGINAL-URL:https://thelostarc.co.uk
X-WR-CALDESC:Events for The Lost Arc, Rhayader
REFRESH-INTERVAL;VALUE=DURATION:PT1H
X-Robots-Tag:noindex
X-PUBLISHED-TTL:PT1H
BEGIN:VTIMEZONE
TZID:Europe/London
BEGIN:DAYLIGHT
TZOFFSETFROM:+0000
TZOFFSETTO:+0100
TZNAME:BST
DTSTART:20270328T010000
END:DAYLIGHT
BEGIN:STANDARD
TZOFFSETFROM:+0100
TZOFFSETTO:+0000
TZNAME:GMT
DTSTART:20271031T010000
END:STANDARD
BEGIN:DAYLIGHT
TZOFFSETFROM:+0000
TZOFFSETTO:+0100
TZNAME:BST
DTSTART:20280326T010000
END:DAYLIGHT
BEGIN:STANDARD
TZOFFSETFROM:+0100
TZOFFSETTO:+0000
TZNAME:GMT
DTSTART:20281029T010000
END:STANDARD
BEGIN:DAYLIGHT
TZOFFSETFROM:+0000
TZOFFSETTO:+0100
TZNAME:BST
DTSTART:20290325T010000
END:DAYLIGHT
BEGIN:STANDARD
TZOFFSETFROM:+0100
TZOFFSETTO:+0000
TZNAME:GMT
DTSTART:20291028T010000
END:STANDARD
END:VTIMEZONE
BEGIN:VEVENT
DTSTART;TZID=Europe/London:20280818T170000
DTEND;TZID=Europe/London:20280818T210000
DTSTAMP:20260420T072529
CREATED:20241122T183907Z
LAST-MODIFIED:20251103T155439Z
UID:10001003-1850230800-1850245200@thelostarc.co.uk
SUMMARY:Nos Wener pizza
DESCRIPTION:Nosweithiau pizza wrth yr arc!\n\n\n\nyn noson newydd\, reolaidd o gerddoriaeth fyw wreiddiol o’n hardal leol. Mewn ymdrech i hybu a chynnal y sin gerddoriaeth wych sydd gennym yn y Canolbarth\, rydym yn rhoi llwyfan newydd ac ymroddedig i dalent cartref. Bydd gan y noson lein-yp gwahanol o 3 act bob yn ail fis\, gyda’r holl arian drws yn mynd yn syth i’r cerddorion sy’n ymwneud â chreu cerddoriaeth newydd wych yn lleol.
URL:https://thelostarc.co.uk/event/nos-wener-pizza/2028-08-18/
CATEGORIES:Bwyd
ATTACH;FMTTYPE=image/jpeg:https://thelostarc.co.uk/wp-content/uploads/2019/05/Pizza-oven.jpg
END:VEVENT
BEGIN:VEVENT
DTSTART;TZID=Europe/London:20280818T170000
DTEND;TZID=Europe/London:20280818T210000
DTSTAMP:20260420T072529
CREATED:20260129T104003Z
LAST-MODIFIED:20260129T104749Z
UID:10001611-1850230800-1850245200@thelostarc.co.uk
SUMMARY:Friday pizza night
DESCRIPTION:Pizza nights at the arc!\n\n\n\nFriday night is pizza night at The Lost ARC café! At the end of the week we fire up our amazing wood-fired over to cook delicious and fresh pizza\, so why not join us! \n\n\n\nBooking is recommended\, especially if there’s a gig on! Call the café to book on 01597811226. \n\n\n\n\n\n\n\n\n\n\n\n\n\n\n\nBook now!
URL:https://thelostarc.co.uk/event/friday-pizza-night/2028-08-18/
CATEGORIES:Food
ATTACH;FMTTYPE=image/jpeg:https://thelostarc.co.uk/wp-content/uploads/2019/05/Pizza-oven.jpg
END:VEVENT
BEGIN:VEVENT
DTSTART;TZID=Europe/London:20280825T170000
DTEND;TZID=Europe/London:20280825T210000
DTSTAMP:20260420T072529
CREATED:20241122T183907Z
LAST-MODIFIED:20251103T155439Z
UID:10001004-1850835600-1850850000@thelostarc.co.uk
SUMMARY:Nos Wener pizza
DESCRIPTION:Nosweithiau pizza wrth yr arc!\n\n\n\nyn noson newydd\, reolaidd o gerddoriaeth fyw wreiddiol o’n hardal leol. Mewn ymdrech i hybu a chynnal y sin gerddoriaeth wych sydd gennym yn y Canolbarth\, rydym yn rhoi llwyfan newydd ac ymroddedig i dalent cartref. Bydd gan y noson lein-yp gwahanol o 3 act bob yn ail fis\, gyda’r holl arian drws yn mynd yn syth i’r cerddorion sy’n ymwneud â chreu cerddoriaeth newydd wych yn lleol.
URL:https://thelostarc.co.uk/event/nos-wener-pizza/2028-08-25/
CATEGORIES:Bwyd
ATTACH;FMTTYPE=image/jpeg:https://thelostarc.co.uk/wp-content/uploads/2019/05/Pizza-oven.jpg
END:VEVENT
BEGIN:VEVENT
DTSTART;TZID=Europe/London:20280825T170000
DTEND;TZID=Europe/London:20280825T210000
DTSTAMP:20260420T072529
CREATED:20260129T104003Z
LAST-MODIFIED:20260129T104749Z
UID:10001612-1850835600-1850850000@thelostarc.co.uk
SUMMARY:Friday pizza night
DESCRIPTION:Pizza nights at the arc!\n\n\n\nFriday night is pizza night at The Lost ARC café! At the end of the week we fire up our amazing wood-fired over to cook delicious and fresh pizza\, so why not join us! \n\n\n\nBooking is recommended\, especially if there’s a gig on! Call the café to book on 01597811226. \n\n\n\n\n\n\n\n\n\n\n\n\n\n\n\nBook now!
URL:https://thelostarc.co.uk/event/friday-pizza-night/2028-08-25/
CATEGORIES:Food
ATTACH;FMTTYPE=image/jpeg:https://thelostarc.co.uk/wp-content/uploads/2019/05/Pizza-oven.jpg
END:VEVENT
BEGIN:VEVENT
DTSTART;TZID=Europe/London:20280901T170000
DTEND;TZID=Europe/London:20280901T210000
DTSTAMP:20260420T072529
CREATED:20241122T183907Z
LAST-MODIFIED:20251103T155439Z
UID:10001005-1851440400-1851454800@thelostarc.co.uk
SUMMARY:Nos Wener pizza
DESCRIPTION:Nosweithiau pizza wrth yr arc!\n\n\n\nyn noson newydd\, reolaidd o gerddoriaeth fyw wreiddiol o’n hardal leol. Mewn ymdrech i hybu a chynnal y sin gerddoriaeth wych sydd gennym yn y Canolbarth\, rydym yn rhoi llwyfan newydd ac ymroddedig i dalent cartref. Bydd gan y noson lein-yp gwahanol o 3 act bob yn ail fis\, gyda’r holl arian drws yn mynd yn syth i’r cerddorion sy’n ymwneud â chreu cerddoriaeth newydd wych yn lleol.
URL:https://thelostarc.co.uk/event/nos-wener-pizza/2028-09-01/
CATEGORIES:Bwyd
ATTACH;FMTTYPE=image/jpeg:https://thelostarc.co.uk/wp-content/uploads/2019/05/Pizza-oven.jpg
END:VEVENT
BEGIN:VEVENT
DTSTART;TZID=Europe/London:20280901T170000
DTEND;TZID=Europe/London:20280901T210000
DTSTAMP:20260420T072529
CREATED:20260129T104003Z
LAST-MODIFIED:20260129T104749Z
UID:10001613-1851440400-1851454800@thelostarc.co.uk
SUMMARY:Friday pizza night
DESCRIPTION:Pizza nights at the arc!\n\n\n\nFriday night is pizza night at The Lost ARC café! At the end of the week we fire up our amazing wood-fired over to cook delicious and fresh pizza\, so why not join us! \n\n\n\nBooking is recommended\, especially if there’s a gig on! Call the café to book on 01597811226. \n\n\n\n\n\n\n\n\n\n\n\n\n\n\n\nBook now!
URL:https://thelostarc.co.uk/event/friday-pizza-night/2028-09-01/
CATEGORIES:Food
ATTACH;FMTTYPE=image/jpeg:https://thelostarc.co.uk/wp-content/uploads/2019/05/Pizza-oven.jpg
END:VEVENT
BEGIN:VEVENT
DTSTART;TZID=Europe/London:20280904T193000
DTEND;TZID=Europe/London:20280904T223000
DTSTAMP:20260420T072529
CREATED:20250626T091106Z
LAST-MODIFIED:20250707T234146Z
UID:10001258-1851708600-1851719400@thelostarc.co.uk
SUMMARY:open mic
DESCRIPTION:A chance to get on our stage on the first Monday of every month! \n\n\n\nAll welcome\, with sign up from 7pm earliest. Songs\, stories\, jams\, poems and more. \n\n\n\nProfessional sound and a supportive audience guaranteed. Free entry\, bar open. \n\n\n\nFor more information search ‘The Lost Arc Open Mic‘ on facebook to join our group and make enquiries.
URL:https://thelostarc.co.uk/event/open-mic/2028-09-04/
CATEGORIES:Community
ATTACH;FMTTYPE=image/jpeg:https://thelostarc.co.uk/wp-content/uploads/2025/06/Open-Mic.jpg
END:VEVENT
BEGIN:VEVENT
DTSTART;TZID=Europe/London:20280908T170000
DTEND;TZID=Europe/London:20280908T210000
DTSTAMP:20260420T072529
CREATED:20241122T183907Z
LAST-MODIFIED:20251103T155439Z
UID:10001006-1852045200-1852059600@thelostarc.co.uk
SUMMARY:Nos Wener pizza
DESCRIPTION:Nosweithiau pizza wrth yr arc!\n\n\n\nyn noson newydd\, reolaidd o gerddoriaeth fyw wreiddiol o’n hardal leol. Mewn ymdrech i hybu a chynnal y sin gerddoriaeth wych sydd gennym yn y Canolbarth\, rydym yn rhoi llwyfan newydd ac ymroddedig i dalent cartref. Bydd gan y noson lein-yp gwahanol o 3 act bob yn ail fis\, gyda’r holl arian drws yn mynd yn syth i’r cerddorion sy’n ymwneud â chreu cerddoriaeth newydd wych yn lleol.
URL:https://thelostarc.co.uk/event/nos-wener-pizza/2028-09-08/
CATEGORIES:Bwyd
ATTACH;FMTTYPE=image/jpeg:https://thelostarc.co.uk/wp-content/uploads/2019/05/Pizza-oven.jpg
END:VEVENT
BEGIN:VEVENT
DTSTART;TZID=Europe/London:20280908T170000
DTEND;TZID=Europe/London:20280908T210000
DTSTAMP:20260420T072529
CREATED:20260129T104003Z
LAST-MODIFIED:20260129T104749Z
UID:10001614-1852045200-1852059600@thelostarc.co.uk
SUMMARY:Friday pizza night
DESCRIPTION:Pizza nights at the arc!\n\n\n\nFriday night is pizza night at The Lost ARC café! At the end of the week we fire up our amazing wood-fired over to cook delicious and fresh pizza\, so why not join us! \n\n\n\nBooking is recommended\, especially if there’s a gig on! Call the café to book on 01597811226. \n\n\n\n\n\n\n\n\n\n\n\n\n\n\n\nBook now!
URL:https://thelostarc.co.uk/event/friday-pizza-night/2028-09-08/
CATEGORIES:Food
ATTACH;FMTTYPE=image/jpeg:https://thelostarc.co.uk/wp-content/uploads/2019/05/Pizza-oven.jpg
END:VEVENT
BEGIN:VEVENT
DTSTART;TZID=Europe/London:20280915T170000
DTEND;TZID=Europe/London:20280915T210000
DTSTAMP:20260420T072529
CREATED:20241122T183907Z
LAST-MODIFIED:20251103T155439Z
UID:10001007-1852650000-1852664400@thelostarc.co.uk
SUMMARY:Nos Wener pizza
DESCRIPTION:Nosweithiau pizza wrth yr arc!\n\n\n\nyn noson newydd\, reolaidd o gerddoriaeth fyw wreiddiol o’n hardal leol. Mewn ymdrech i hybu a chynnal y sin gerddoriaeth wych sydd gennym yn y Canolbarth\, rydym yn rhoi llwyfan newydd ac ymroddedig i dalent cartref. Bydd gan y noson lein-yp gwahanol o 3 act bob yn ail fis\, gyda’r holl arian drws yn mynd yn syth i’r cerddorion sy’n ymwneud â chreu cerddoriaeth newydd wych yn lleol.
URL:https://thelostarc.co.uk/event/nos-wener-pizza/2028-09-15/
CATEGORIES:Bwyd
ATTACH;FMTTYPE=image/jpeg:https://thelostarc.co.uk/wp-content/uploads/2019/05/Pizza-oven.jpg
END:VEVENT
BEGIN:VEVENT
DTSTART;TZID=Europe/London:20280915T170000
DTEND;TZID=Europe/London:20280915T210000
DTSTAMP:20260420T072529
CREATED:20260129T104003Z
LAST-MODIFIED:20260129T104749Z
UID:10001615-1852650000-1852664400@thelostarc.co.uk
SUMMARY:Friday pizza night
DESCRIPTION:Pizza nights at the arc!\n\n\n\nFriday night is pizza night at The Lost ARC café! At the end of the week we fire up our amazing wood-fired over to cook delicious and fresh pizza\, so why not join us! \n\n\n\nBooking is recommended\, especially if there’s a gig on! Call the café to book on 01597811226. \n\n\n\n\n\n\n\n\n\n\n\n\n\n\n\nBook now!
URL:https://thelostarc.co.uk/event/friday-pizza-night/2028-09-15/
CATEGORIES:Food
ATTACH;FMTTYPE=image/jpeg:https://thelostarc.co.uk/wp-content/uploads/2019/05/Pizza-oven.jpg
END:VEVENT
BEGIN:VEVENT
DTSTART;TZID=Europe/London:20280922T170000
DTEND;TZID=Europe/London:20280922T210000
DTSTAMP:20260420T072529
CREATED:20241122T183907Z
LAST-MODIFIED:20251103T155439Z
UID:10001008-1853254800-1853269200@thelostarc.co.uk
SUMMARY:Nos Wener pizza
DESCRIPTION:Nosweithiau pizza wrth yr arc!\n\n\n\nyn noson newydd\, reolaidd o gerddoriaeth fyw wreiddiol o’n hardal leol. Mewn ymdrech i hybu a chynnal y sin gerddoriaeth wych sydd gennym yn y Canolbarth\, rydym yn rhoi llwyfan newydd ac ymroddedig i dalent cartref. Bydd gan y noson lein-yp gwahanol o 3 act bob yn ail fis\, gyda’r holl arian drws yn mynd yn syth i’r cerddorion sy’n ymwneud â chreu cerddoriaeth newydd wych yn lleol.
URL:https://thelostarc.co.uk/event/nos-wener-pizza/2028-09-22/
CATEGORIES:Bwyd
ATTACH;FMTTYPE=image/jpeg:https://thelostarc.co.uk/wp-content/uploads/2019/05/Pizza-oven.jpg
END:VEVENT
BEGIN:VEVENT
DTSTART;TZID=Europe/London:20280922T170000
DTEND;TZID=Europe/London:20280922T210000
DTSTAMP:20260420T072529
CREATED:20260129T104003Z
LAST-MODIFIED:20260129T104749Z
UID:10001616-1853254800-1853269200@thelostarc.co.uk
SUMMARY:Friday pizza night
DESCRIPTION:Pizza nights at the arc!\n\n\n\nFriday night is pizza night at The Lost ARC café! At the end of the week we fire up our amazing wood-fired over to cook delicious and fresh pizza\, so why not join us! \n\n\n\nBooking is recommended\, especially if there’s a gig on! Call the café to book on 01597811226. \n\n\n\n\n\n\n\n\n\n\n\n\n\n\n\nBook now!
URL:https://thelostarc.co.uk/event/friday-pizza-night/2028-09-22/
CATEGORIES:Food
ATTACH;FMTTYPE=image/jpeg:https://thelostarc.co.uk/wp-content/uploads/2019/05/Pizza-oven.jpg
END:VEVENT
BEGIN:VEVENT
DTSTART;TZID=Europe/London:20280929T170000
DTEND;TZID=Europe/London:20280929T210000
DTSTAMP:20260420T072529
CREATED:20241122T183907Z
LAST-MODIFIED:20251103T155439Z
UID:10001009-1853859600-1853874000@thelostarc.co.uk
SUMMARY:Nos Wener pizza
DESCRIPTION:Nosweithiau pizza wrth yr arc!\n\n\n\nyn noson newydd\, reolaidd o gerddoriaeth fyw wreiddiol o’n hardal leol. Mewn ymdrech i hybu a chynnal y sin gerddoriaeth wych sydd gennym yn y Canolbarth\, rydym yn rhoi llwyfan newydd ac ymroddedig i dalent cartref. Bydd gan y noson lein-yp gwahanol o 3 act bob yn ail fis\, gyda’r holl arian drws yn mynd yn syth i’r cerddorion sy’n ymwneud â chreu cerddoriaeth newydd wych yn lleol.
URL:https://thelostarc.co.uk/event/nos-wener-pizza/2028-09-29/
CATEGORIES:Bwyd
ATTACH;FMTTYPE=image/jpeg:https://thelostarc.co.uk/wp-content/uploads/2019/05/Pizza-oven.jpg
END:VEVENT
BEGIN:VEVENT
DTSTART;TZID=Europe/London:20280929T170000
DTEND;TZID=Europe/London:20280929T210000
DTSTAMP:20260420T072529
CREATED:20260129T104003Z
LAST-MODIFIED:20260129T104749Z
UID:10001617-1853859600-1853874000@thelostarc.co.uk
SUMMARY:Friday pizza night
DESCRIPTION:Pizza nights at the arc!\n\n\n\nFriday night is pizza night at The Lost ARC café! At the end of the week we fire up our amazing wood-fired over to cook delicious and fresh pizza\, so why not join us! \n\n\n\nBooking is recommended\, especially if there’s a gig on! Call the café to book on 01597811226. \n\n\n\n\n\n\n\n\n\n\n\n\n\n\n\nBook now!
URL:https://thelostarc.co.uk/event/friday-pizza-night/2028-09-29/
CATEGORIES:Food
ATTACH;FMTTYPE=image/jpeg:https://thelostarc.co.uk/wp-content/uploads/2019/05/Pizza-oven.jpg
END:VEVENT
BEGIN:VEVENT
DTSTART;TZID=Europe/London:20281002T193000
DTEND;TZID=Europe/London:20281002T223000
DTSTAMP:20260420T072529
CREATED:20250626T091106Z
LAST-MODIFIED:20250707T234146Z
UID:10001259-1854127800-1854138600@thelostarc.co.uk
SUMMARY:open mic
DESCRIPTION:A chance to get on our stage on the first Monday of every month! \n\n\n\nAll welcome\, with sign up from 7pm earliest. Songs\, stories\, jams\, poems and more. \n\n\n\nProfessional sound and a supportive audience guaranteed. Free entry\, bar open. \n\n\n\nFor more information search ‘The Lost Arc Open Mic‘ on facebook to join our group and make enquiries.
URL:https://thelostarc.co.uk/event/open-mic/2028-10-02/
CATEGORIES:Community
ATTACH;FMTTYPE=image/jpeg:https://thelostarc.co.uk/wp-content/uploads/2025/06/Open-Mic.jpg
END:VEVENT
BEGIN:VEVENT
DTSTART;TZID=Europe/London:20281006T170000
DTEND;TZID=Europe/London:20281006T210000
DTSTAMP:20260420T072529
CREATED:20241122T183907Z
LAST-MODIFIED:20251103T155439Z
UID:10001010-1854464400-1854478800@thelostarc.co.uk
SUMMARY:Nos Wener pizza
DESCRIPTION:Nosweithiau pizza wrth yr arc!\n\n\n\nyn noson newydd\, reolaidd o gerddoriaeth fyw wreiddiol o’n hardal leol. Mewn ymdrech i hybu a chynnal y sin gerddoriaeth wych sydd gennym yn y Canolbarth\, rydym yn rhoi llwyfan newydd ac ymroddedig i dalent cartref. Bydd gan y noson lein-yp gwahanol o 3 act bob yn ail fis\, gyda’r holl arian drws yn mynd yn syth i’r cerddorion sy’n ymwneud â chreu cerddoriaeth newydd wych yn lleol.
URL:https://thelostarc.co.uk/event/nos-wener-pizza/2028-10-06/
CATEGORIES:Bwyd
ATTACH;FMTTYPE=image/jpeg:https://thelostarc.co.uk/wp-content/uploads/2019/05/Pizza-oven.jpg
END:VEVENT
BEGIN:VEVENT
DTSTART;TZID=Europe/London:20281006T170000
DTEND;TZID=Europe/London:20281006T210000
DTSTAMP:20260420T072529
CREATED:20260129T104003Z
LAST-MODIFIED:20260129T104749Z
UID:10001618-1854464400-1854478800@thelostarc.co.uk
SUMMARY:Friday pizza night
DESCRIPTION:Pizza nights at the arc!\n\n\n\nFriday night is pizza night at The Lost ARC café! At the end of the week we fire up our amazing wood-fired over to cook delicious and fresh pizza\, so why not join us! \n\n\n\nBooking is recommended\, especially if there’s a gig on! Call the café to book on 01597811226. \n\n\n\n\n\n\n\n\n\n\n\n\n\n\n\nBook now!
URL:https://thelostarc.co.uk/event/friday-pizza-night/2028-10-06/
CATEGORIES:Food
ATTACH;FMTTYPE=image/jpeg:https://thelostarc.co.uk/wp-content/uploads/2019/05/Pizza-oven.jpg
END:VEVENT
BEGIN:VEVENT
DTSTART;TZID=Europe/London:20281013T170000
DTEND;TZID=Europe/London:20281013T210000
DTSTAMP:20260420T072529
CREATED:20241122T183907Z
LAST-MODIFIED:20251103T155439Z
UID:10001011-1855069200-1855083600@thelostarc.co.uk
SUMMARY:Nos Wener pizza
DESCRIPTION:Nosweithiau pizza wrth yr arc!\n\n\n\nyn noson newydd\, reolaidd o gerddoriaeth fyw wreiddiol o’n hardal leol. Mewn ymdrech i hybu a chynnal y sin gerddoriaeth wych sydd gennym yn y Canolbarth\, rydym yn rhoi llwyfan newydd ac ymroddedig i dalent cartref. Bydd gan y noson lein-yp gwahanol o 3 act bob yn ail fis\, gyda’r holl arian drws yn mynd yn syth i’r cerddorion sy’n ymwneud â chreu cerddoriaeth newydd wych yn lleol.
URL:https://thelostarc.co.uk/event/nos-wener-pizza/2028-10-13/
CATEGORIES:Bwyd
ATTACH;FMTTYPE=image/jpeg:https://thelostarc.co.uk/wp-content/uploads/2019/05/Pizza-oven.jpg
END:VEVENT
BEGIN:VEVENT
DTSTART;TZID=Europe/London:20281013T170000
DTEND;TZID=Europe/London:20281013T210000
DTSTAMP:20260420T072529
CREATED:20260129T104003Z
LAST-MODIFIED:20260129T104749Z
UID:10001619-1855069200-1855083600@thelostarc.co.uk
SUMMARY:Friday pizza night
DESCRIPTION:Pizza nights at the arc!\n\n\n\nFriday night is pizza night at The Lost ARC café! At the end of the week we fire up our amazing wood-fired over to cook delicious and fresh pizza\, so why not join us! \n\n\n\nBooking is recommended\, especially if there’s a gig on! Call the café to book on 01597811226. \n\n\n\n\n\n\n\n\n\n\n\n\n\n\n\nBook now!
URL:https://thelostarc.co.uk/event/friday-pizza-night/2028-10-13/
CATEGORIES:Food
ATTACH;FMTTYPE=image/jpeg:https://thelostarc.co.uk/wp-content/uploads/2019/05/Pizza-oven.jpg
END:VEVENT
BEGIN:VEVENT
DTSTART;TZID=Europe/London:20281020T170000
DTEND;TZID=Europe/London:20281020T210000
DTSTAMP:20260420T072529
CREATED:20241122T183907Z
LAST-MODIFIED:20251103T155439Z
UID:10001012-1855674000-1855688400@thelostarc.co.uk
SUMMARY:Nos Wener pizza
DESCRIPTION:Nosweithiau pizza wrth yr arc!\n\n\n\nyn noson newydd\, reolaidd o gerddoriaeth fyw wreiddiol o’n hardal leol. Mewn ymdrech i hybu a chynnal y sin gerddoriaeth wych sydd gennym yn y Canolbarth\, rydym yn rhoi llwyfan newydd ac ymroddedig i dalent cartref. Bydd gan y noson lein-yp gwahanol o 3 act bob yn ail fis\, gyda’r holl arian drws yn mynd yn syth i’r cerddorion sy’n ymwneud â chreu cerddoriaeth newydd wych yn lleol.
URL:https://thelostarc.co.uk/event/nos-wener-pizza/2028-10-20/
CATEGORIES:Bwyd
ATTACH;FMTTYPE=image/jpeg:https://thelostarc.co.uk/wp-content/uploads/2019/05/Pizza-oven.jpg
END:VEVENT
BEGIN:VEVENT
DTSTART;TZID=Europe/London:20281020T170000
DTEND;TZID=Europe/London:20281020T210000
DTSTAMP:20260420T072529
CREATED:20260129T104003Z
LAST-MODIFIED:20260129T104749Z
UID:10001620-1855674000-1855688400@thelostarc.co.uk
SUMMARY:Friday pizza night
DESCRIPTION:Pizza nights at the arc!\n\n\n\nFriday night is pizza night at The Lost ARC café! At the end of the week we fire up our amazing wood-fired over to cook delicious and fresh pizza\, so why not join us! \n\n\n\nBooking is recommended\, especially if there’s a gig on! Call the café to book on 01597811226. \n\n\n\n\n\n\n\n\n\n\n\n\n\n\n\nBook now!
URL:https://thelostarc.co.uk/event/friday-pizza-night/2028-10-20/
CATEGORIES:Food
ATTACH;FMTTYPE=image/jpeg:https://thelostarc.co.uk/wp-content/uploads/2019/05/Pizza-oven.jpg
END:VEVENT
BEGIN:VEVENT
DTSTART;TZID=Europe/London:20281027T170000
DTEND;TZID=Europe/London:20281027T210000
DTSTAMP:20260420T072529
CREATED:20241122T183907Z
LAST-MODIFIED:20251103T155439Z
UID:10001013-1856278800-1856293200@thelostarc.co.uk
SUMMARY:Nos Wener pizza
DESCRIPTION:Nosweithiau pizza wrth yr arc!\n\n\n\nyn noson newydd\, reolaidd o gerddoriaeth fyw wreiddiol o’n hardal leol. Mewn ymdrech i hybu a chynnal y sin gerddoriaeth wych sydd gennym yn y Canolbarth\, rydym yn rhoi llwyfan newydd ac ymroddedig i dalent cartref. Bydd gan y noson lein-yp gwahanol o 3 act bob yn ail fis\, gyda’r holl arian drws yn mynd yn syth i’r cerddorion sy’n ymwneud â chreu cerddoriaeth newydd wych yn lleol.
URL:https://thelostarc.co.uk/event/nos-wener-pizza/2028-10-27/
CATEGORIES:Bwyd
ATTACH;FMTTYPE=image/jpeg:https://thelostarc.co.uk/wp-content/uploads/2019/05/Pizza-oven.jpg
END:VEVENT
BEGIN:VEVENT
DTSTART;TZID=Europe/London:20281027T170000
DTEND;TZID=Europe/London:20281027T210000
DTSTAMP:20260420T072529
CREATED:20260129T104003Z
LAST-MODIFIED:20260129T104749Z
UID:10001621-1856278800-1856293200@thelostarc.co.uk
SUMMARY:Friday pizza night
DESCRIPTION:Pizza nights at the arc!\n\n\n\nFriday night is pizza night at The Lost ARC café! At the end of the week we fire up our amazing wood-fired over to cook delicious and fresh pizza\, so why not join us! \n\n\n\nBooking is recommended\, especially if there’s a gig on! Call the café to book on 01597811226. \n\n\n\n\n\n\n\n\n\n\n\n\n\n\n\nBook now!
URL:https://thelostarc.co.uk/event/friday-pizza-night/2028-10-27/
CATEGORIES:Food
ATTACH;FMTTYPE=image/jpeg:https://thelostarc.co.uk/wp-content/uploads/2019/05/Pizza-oven.jpg
END:VEVENT
BEGIN:VEVENT
DTSTART;TZID=Europe/London:20281103T170000
DTEND;TZID=Europe/London:20281103T210000
DTSTAMP:20260420T072529
CREATED:20241122T183907Z
LAST-MODIFIED:20251103T155439Z
UID:10001014-1856883600-1856898000@thelostarc.co.uk
SUMMARY:Nos Wener pizza
DESCRIPTION:Nosweithiau pizza wrth yr arc!\n\n\n\nyn noson newydd\, reolaidd o gerddoriaeth fyw wreiddiol o’n hardal leol. Mewn ymdrech i hybu a chynnal y sin gerddoriaeth wych sydd gennym yn y Canolbarth\, rydym yn rhoi llwyfan newydd ac ymroddedig i dalent cartref. Bydd gan y noson lein-yp gwahanol o 3 act bob yn ail fis\, gyda’r holl arian drws yn mynd yn syth i’r cerddorion sy’n ymwneud â chreu cerddoriaeth newydd wych yn lleol.
URL:https://thelostarc.co.uk/event/nos-wener-pizza/2028-11-03/
CATEGORIES:Bwyd
ATTACH;FMTTYPE=image/jpeg:https://thelostarc.co.uk/wp-content/uploads/2019/05/Pizza-oven.jpg
END:VEVENT
BEGIN:VEVENT
DTSTART;TZID=Europe/London:20281103T170000
DTEND;TZID=Europe/London:20281103T210000
DTSTAMP:20260420T072529
CREATED:20260129T104003Z
LAST-MODIFIED:20260129T104749Z
UID:10001622-1856883600-1856898000@thelostarc.co.uk
SUMMARY:Friday pizza night
DESCRIPTION:Pizza nights at the arc!\n\n\n\nFriday night is pizza night at The Lost ARC café! At the end of the week we fire up our amazing wood-fired over to cook delicious and fresh pizza\, so why not join us! \n\n\n\nBooking is recommended\, especially if there’s a gig on! Call the café to book on 01597811226. \n\n\n\n\n\n\n\n\n\n\n\n\n\n\n\nBook now!
URL:https://thelostarc.co.uk/event/friday-pizza-night/2028-11-03/
CATEGORIES:Food
ATTACH;FMTTYPE=image/jpeg:https://thelostarc.co.uk/wp-content/uploads/2019/05/Pizza-oven.jpg
END:VEVENT
BEGIN:VEVENT
DTSTART;TZID=Europe/London:20281106T193000
DTEND;TZID=Europe/London:20281106T223000
DTSTAMP:20260420T072529
CREATED:20250626T091106Z
LAST-MODIFIED:20250707T234146Z
UID:10001260-1857151800-1857162600@thelostarc.co.uk
SUMMARY:open mic
DESCRIPTION:A chance to get on our stage on the first Monday of every month! \n\n\n\nAll welcome\, with sign up from 7pm earliest. Songs\, stories\, jams\, poems and more. \n\n\n\nProfessional sound and a supportive audience guaranteed. Free entry\, bar open. \n\n\n\nFor more information search ‘The Lost Arc Open Mic‘ on facebook to join our group and make enquiries.
URL:https://thelostarc.co.uk/event/open-mic/2028-11-06/
CATEGORIES:Community
ATTACH;FMTTYPE=image/jpeg:https://thelostarc.co.uk/wp-content/uploads/2025/06/Open-Mic.jpg
END:VEVENT
BEGIN:VEVENT
DTSTART;TZID=Europe/London:20281110T170000
DTEND;TZID=Europe/London:20281110T210000
DTSTAMP:20260420T072529
CREATED:20241122T183907Z
LAST-MODIFIED:20251103T155439Z
UID:10001015-1857488400-1857502800@thelostarc.co.uk
SUMMARY:Nos Wener pizza
DESCRIPTION:Nosweithiau pizza wrth yr arc!\n\n\n\nyn noson newydd\, reolaidd o gerddoriaeth fyw wreiddiol o’n hardal leol. Mewn ymdrech i hybu a chynnal y sin gerddoriaeth wych sydd gennym yn y Canolbarth\, rydym yn rhoi llwyfan newydd ac ymroddedig i dalent cartref. Bydd gan y noson lein-yp gwahanol o 3 act bob yn ail fis\, gyda’r holl arian drws yn mynd yn syth i’r cerddorion sy’n ymwneud â chreu cerddoriaeth newydd wych yn lleol.
URL:https://thelostarc.co.uk/event/nos-wener-pizza/2028-11-10/
CATEGORIES:Bwyd
ATTACH;FMTTYPE=image/jpeg:https://thelostarc.co.uk/wp-content/uploads/2019/05/Pizza-oven.jpg
END:VEVENT
BEGIN:VEVENT
DTSTART;TZID=Europe/London:20281110T170000
DTEND;TZID=Europe/London:20281110T210000
DTSTAMP:20260420T072529
CREATED:20260129T104003Z
LAST-MODIFIED:20260129T104749Z
UID:10001623-1857488400-1857502800@thelostarc.co.uk
SUMMARY:Friday pizza night
DESCRIPTION:Pizza nights at the arc!\n\n\n\nFriday night is pizza night at The Lost ARC café! At the end of the week we fire up our amazing wood-fired over to cook delicious and fresh pizza\, so why not join us! \n\n\n\nBooking is recommended\, especially if there’s a gig on! Call the café to book on 01597811226. \n\n\n\n\n\n\n\n\n\n\n\n\n\n\n\nBook now!
URL:https://thelostarc.co.uk/event/friday-pizza-night/2028-11-10/
CATEGORIES:Food
ATTACH;FMTTYPE=image/jpeg:https://thelostarc.co.uk/wp-content/uploads/2019/05/Pizza-oven.jpg
END:VEVENT
BEGIN:VEVENT
DTSTART;TZID=Europe/London:20281117T170000
DTEND;TZID=Europe/London:20281117T210000
DTSTAMP:20260420T072529
CREATED:20241122T183907Z
LAST-MODIFIED:20251103T155439Z
UID:10001016-1858093200-1858107600@thelostarc.co.uk
SUMMARY:Nos Wener pizza
DESCRIPTION:Nosweithiau pizza wrth yr arc!\n\n\n\nyn noson newydd\, reolaidd o gerddoriaeth fyw wreiddiol o’n hardal leol. Mewn ymdrech i hybu a chynnal y sin gerddoriaeth wych sydd gennym yn y Canolbarth\, rydym yn rhoi llwyfan newydd ac ymroddedig i dalent cartref. Bydd gan y noson lein-yp gwahanol o 3 act bob yn ail fis\, gyda’r holl arian drws yn mynd yn syth i’r cerddorion sy’n ymwneud â chreu cerddoriaeth newydd wych yn lleol.
URL:https://thelostarc.co.uk/event/nos-wener-pizza/2028-11-17/
CATEGORIES:Bwyd
ATTACH;FMTTYPE=image/jpeg:https://thelostarc.co.uk/wp-content/uploads/2019/05/Pizza-oven.jpg
END:VEVENT
END:VCALENDAR