BEGIN:VCALENDAR
VERSION:2.0
PRODID:-//The Lost Arc, Rhayader - ECPv6.15.20//NONSGML v1.0//EN
CALSCALE:GREGORIAN
METHOD:PUBLISH
X-WR-CALNAME:The Lost Arc, Rhayader
X-ORIGINAL-URL:https://thelostarc.co.uk
X-WR-CALDESC:Events for The Lost Arc, Rhayader
REFRESH-INTERVAL;VALUE=DURATION:PT1H
X-Robots-Tag:noindex
X-PUBLISHED-TTL:PT1H
BEGIN:VTIMEZONE
TZID:Europe/London
BEGIN:DAYLIGHT
TZOFFSETFROM:+0000
TZOFFSETTO:+0100
TZNAME:BST
DTSTART:20260329T010000
END:DAYLIGHT
BEGIN:STANDARD
TZOFFSETFROM:+0100
TZOFFSETTO:+0000
TZNAME:GMT
DTSTART:20261025T010000
END:STANDARD
BEGIN:DAYLIGHT
TZOFFSETFROM:+0000
TZOFFSETTO:+0100
TZNAME:BST
DTSTART:20270328T010000
END:DAYLIGHT
BEGIN:STANDARD
TZOFFSETFROM:+0100
TZOFFSETTO:+0000
TZNAME:GMT
DTSTART:20271031T010000
END:STANDARD
BEGIN:DAYLIGHT
TZOFFSETFROM:+0000
TZOFFSETTO:+0100
TZNAME:BST
DTSTART:20280326T010000
END:DAYLIGHT
BEGIN:STANDARD
TZOFFSETFROM:+0100
TZOFFSETTO:+0000
TZNAME:GMT
DTSTART:20281029T010000
END:STANDARD
BEGIN:DAYLIGHT
TZOFFSETFROM:+0000
TZOFFSETTO:+0100
TZNAME:BST
DTSTART:20290325T010000
END:DAYLIGHT
BEGIN:STANDARD
TZOFFSETFROM:+0100
TZOFFSETTO:+0000
TZNAME:GMT
DTSTART:20291028T010000
END:STANDARD
END:VTIMEZONE
BEGIN:VEVENT
DTSTART;TZID=Europe/London:20271126T170000
DTEND;TZID=Europe/London:20271126T210000
DTSTAMP:20260419T205257
CREATED:20260129T104003Z
LAST-MODIFIED:20260129T104749Z
UID:10001573-1827248400-1827262800@thelostarc.co.uk
SUMMARY:Friday pizza night
DESCRIPTION:Pizza nights at the arc!\n\n\n\nFriday night is pizza night at The Lost ARC café! At the end of the week we fire up our amazing wood-fired over to cook delicious and fresh pizza\, so why not join us! \n\n\n\nBooking is recommended\, especially if there’s a gig on! Call the café to book on 01597811226. \n\n\n\n\n\n\n\n\n\n\n\n\n\n\n\nBook now!
URL:https://thelostarc.co.uk/event/friday-pizza-night/2027-11-26/
CATEGORIES:Food
ATTACH;FMTTYPE=image/jpeg:https://thelostarc.co.uk/wp-content/uploads/2019/05/Pizza-oven.jpg
END:VEVENT
BEGIN:VEVENT
DTSTART;TZID=Europe/London:20271203T170000
DTEND;TZID=Europe/London:20271203T210000
DTSTAMP:20260419T205257
CREATED:20241122T183907Z
LAST-MODIFIED:20251103T155439Z
UID:10000966-1827853200-1827867600@thelostarc.co.uk
SUMMARY:Nos Wener pizza
DESCRIPTION:Nosweithiau pizza wrth yr arc!\n\n\n\nyn noson newydd\, reolaidd o gerddoriaeth fyw wreiddiol o’n hardal leol. Mewn ymdrech i hybu a chynnal y sin gerddoriaeth wych sydd gennym yn y Canolbarth\, rydym yn rhoi llwyfan newydd ac ymroddedig i dalent cartref. Bydd gan y noson lein-yp gwahanol o 3 act bob yn ail fis\, gyda’r holl arian drws yn mynd yn syth i’r cerddorion sy’n ymwneud â chreu cerddoriaeth newydd wych yn lleol.
URL:https://thelostarc.co.uk/event/nos-wener-pizza/2027-12-03/
CATEGORIES:Bwyd
ATTACH;FMTTYPE=image/jpeg:https://thelostarc.co.uk/wp-content/uploads/2019/05/Pizza-oven.jpg
END:VEVENT
BEGIN:VEVENT
DTSTART;TZID=Europe/London:20271203T170000
DTEND;TZID=Europe/London:20271203T210000
DTSTAMP:20260419T205257
CREATED:20260129T104003Z
LAST-MODIFIED:20260129T104749Z
UID:10001574-1827853200-1827867600@thelostarc.co.uk
SUMMARY:Friday pizza night
DESCRIPTION:Pizza nights at the arc!\n\n\n\nFriday night is pizza night at The Lost ARC café! At the end of the week we fire up our amazing wood-fired over to cook delicious and fresh pizza\, so why not join us! \n\n\n\nBooking is recommended\, especially if there’s a gig on! Call the café to book on 01597811226. \n\n\n\n\n\n\n\n\n\n\n\n\n\n\n\nBook now!
URL:https://thelostarc.co.uk/event/friday-pizza-night/2027-12-03/
CATEGORIES:Food
ATTACH;FMTTYPE=image/jpeg:https://thelostarc.co.uk/wp-content/uploads/2019/05/Pizza-oven.jpg
END:VEVENT
BEGIN:VEVENT
DTSTART;TZID=Europe/London:20271206T193000
DTEND;TZID=Europe/London:20271206T223000
DTSTAMP:20260419T205257
CREATED:20250626T091106Z
LAST-MODIFIED:20250707T234146Z
UID:10001249-1828121400-1828132200@thelostarc.co.uk
SUMMARY:open mic
DESCRIPTION:A chance to get on our stage on the first Monday of every month! \n\n\n\nAll welcome\, with sign up from 7pm earliest. Songs\, stories\, jams\, poems and more. \n\n\n\nProfessional sound and a supportive audience guaranteed. Free entry\, bar open. \n\n\n\nFor more information search ‘The Lost Arc Open Mic‘ on facebook to join our group and make enquiries.
URL:https://thelostarc.co.uk/event/open-mic/2027-12-06/
CATEGORIES:Community
ATTACH;FMTTYPE=image/jpeg:https://thelostarc.co.uk/wp-content/uploads/2025/06/Open-Mic.jpg
END:VEVENT
BEGIN:VEVENT
DTSTART;TZID=Europe/London:20271210T170000
DTEND;TZID=Europe/London:20271210T210000
DTSTAMP:20260419T205257
CREATED:20241122T183907Z
LAST-MODIFIED:20251103T155439Z
UID:10000967-1828458000-1828472400@thelostarc.co.uk
SUMMARY:Nos Wener pizza
DESCRIPTION:Nosweithiau pizza wrth yr arc!\n\n\n\nyn noson newydd\, reolaidd o gerddoriaeth fyw wreiddiol o’n hardal leol. Mewn ymdrech i hybu a chynnal y sin gerddoriaeth wych sydd gennym yn y Canolbarth\, rydym yn rhoi llwyfan newydd ac ymroddedig i dalent cartref. Bydd gan y noson lein-yp gwahanol o 3 act bob yn ail fis\, gyda’r holl arian drws yn mynd yn syth i’r cerddorion sy’n ymwneud â chreu cerddoriaeth newydd wych yn lleol.
URL:https://thelostarc.co.uk/event/nos-wener-pizza/2027-12-10/
CATEGORIES:Bwyd
ATTACH;FMTTYPE=image/jpeg:https://thelostarc.co.uk/wp-content/uploads/2019/05/Pizza-oven.jpg
END:VEVENT
BEGIN:VEVENT
DTSTART;TZID=Europe/London:20271210T170000
DTEND;TZID=Europe/London:20271210T210000
DTSTAMP:20260419T205257
CREATED:20260129T104003Z
LAST-MODIFIED:20260129T104749Z
UID:10001575-1828458000-1828472400@thelostarc.co.uk
SUMMARY:Friday pizza night
DESCRIPTION:Pizza nights at the arc!\n\n\n\nFriday night is pizza night at The Lost ARC café! At the end of the week we fire up our amazing wood-fired over to cook delicious and fresh pizza\, so why not join us! \n\n\n\nBooking is recommended\, especially if there’s a gig on! Call the café to book on 01597811226. \n\n\n\n\n\n\n\n\n\n\n\n\n\n\n\nBook now!
URL:https://thelostarc.co.uk/event/friday-pizza-night/2027-12-10/
CATEGORIES:Food
ATTACH;FMTTYPE=image/jpeg:https://thelostarc.co.uk/wp-content/uploads/2019/05/Pizza-oven.jpg
END:VEVENT
BEGIN:VEVENT
DTSTART;TZID=Europe/London:20271217T170000
DTEND;TZID=Europe/London:20271217T210000
DTSTAMP:20260419T205257
CREATED:20241122T183907Z
LAST-MODIFIED:20251103T155439Z
UID:10000968-1829062800-1829077200@thelostarc.co.uk
SUMMARY:Nos Wener pizza
DESCRIPTION:Nosweithiau pizza wrth yr arc!\n\n\n\nyn noson newydd\, reolaidd o gerddoriaeth fyw wreiddiol o’n hardal leol. Mewn ymdrech i hybu a chynnal y sin gerddoriaeth wych sydd gennym yn y Canolbarth\, rydym yn rhoi llwyfan newydd ac ymroddedig i dalent cartref. Bydd gan y noson lein-yp gwahanol o 3 act bob yn ail fis\, gyda’r holl arian drws yn mynd yn syth i’r cerddorion sy’n ymwneud â chreu cerddoriaeth newydd wych yn lleol.
URL:https://thelostarc.co.uk/event/nos-wener-pizza/2027-12-17/
CATEGORIES:Bwyd
ATTACH;FMTTYPE=image/jpeg:https://thelostarc.co.uk/wp-content/uploads/2019/05/Pizza-oven.jpg
END:VEVENT
BEGIN:VEVENT
DTSTART;TZID=Europe/London:20271217T170000
DTEND;TZID=Europe/London:20271217T210000
DTSTAMP:20260419T205257
CREATED:20260129T104003Z
LAST-MODIFIED:20260129T104749Z
UID:10001576-1829062800-1829077200@thelostarc.co.uk
SUMMARY:Friday pizza night
DESCRIPTION:Pizza nights at the arc!\n\n\n\nFriday night is pizza night at The Lost ARC café! At the end of the week we fire up our amazing wood-fired over to cook delicious and fresh pizza\, so why not join us! \n\n\n\nBooking is recommended\, especially if there’s a gig on! Call the café to book on 01597811226. \n\n\n\n\n\n\n\n\n\n\n\n\n\n\n\nBook now!
URL:https://thelostarc.co.uk/event/friday-pizza-night/2027-12-17/
CATEGORIES:Food
ATTACH;FMTTYPE=image/jpeg:https://thelostarc.co.uk/wp-content/uploads/2019/05/Pizza-oven.jpg
END:VEVENT
BEGIN:VEVENT
DTSTART;TZID=Europe/London:20271224T170000
DTEND;TZID=Europe/London:20271224T210000
DTSTAMP:20260419T205257
CREATED:20241122T183907Z
LAST-MODIFIED:20251103T155439Z
UID:10000969-1829667600-1829682000@thelostarc.co.uk
SUMMARY:Nos Wener pizza
DESCRIPTION:Nosweithiau pizza wrth yr arc!\n\n\n\nyn noson newydd\, reolaidd o gerddoriaeth fyw wreiddiol o’n hardal leol. Mewn ymdrech i hybu a chynnal y sin gerddoriaeth wych sydd gennym yn y Canolbarth\, rydym yn rhoi llwyfan newydd ac ymroddedig i dalent cartref. Bydd gan y noson lein-yp gwahanol o 3 act bob yn ail fis\, gyda’r holl arian drws yn mynd yn syth i’r cerddorion sy’n ymwneud â chreu cerddoriaeth newydd wych yn lleol.
URL:https://thelostarc.co.uk/event/nos-wener-pizza/2027-12-24/
CATEGORIES:Bwyd
ATTACH;FMTTYPE=image/jpeg:https://thelostarc.co.uk/wp-content/uploads/2019/05/Pizza-oven.jpg
END:VEVENT
BEGIN:VEVENT
DTSTART;TZID=Europe/London:20271224T170000
DTEND;TZID=Europe/London:20271224T210000
DTSTAMP:20260419T205257
CREATED:20260129T104003Z
LAST-MODIFIED:20260129T104749Z
UID:10001577-1829667600-1829682000@thelostarc.co.uk
SUMMARY:Friday pizza night
DESCRIPTION:Pizza nights at the arc!\n\n\n\nFriday night is pizza night at The Lost ARC café! At the end of the week we fire up our amazing wood-fired over to cook delicious and fresh pizza\, so why not join us! \n\n\n\nBooking is recommended\, especially if there’s a gig on! Call the café to book on 01597811226. \n\n\n\n\n\n\n\n\n\n\n\n\n\n\n\nBook now!
URL:https://thelostarc.co.uk/event/friday-pizza-night/2027-12-24/
CATEGORIES:Food
ATTACH;FMTTYPE=image/jpeg:https://thelostarc.co.uk/wp-content/uploads/2019/05/Pizza-oven.jpg
END:VEVENT
BEGIN:VEVENT
DTSTART;TZID=Europe/London:20271231T170000
DTEND;TZID=Europe/London:20271231T210000
DTSTAMP:20260419T205257
CREATED:20241122T183907Z
LAST-MODIFIED:20251103T155439Z
UID:10000970-1830272400-1830286800@thelostarc.co.uk
SUMMARY:Nos Wener pizza
DESCRIPTION:Nosweithiau pizza wrth yr arc!\n\n\n\nyn noson newydd\, reolaidd o gerddoriaeth fyw wreiddiol o’n hardal leol. Mewn ymdrech i hybu a chynnal y sin gerddoriaeth wych sydd gennym yn y Canolbarth\, rydym yn rhoi llwyfan newydd ac ymroddedig i dalent cartref. Bydd gan y noson lein-yp gwahanol o 3 act bob yn ail fis\, gyda’r holl arian drws yn mynd yn syth i’r cerddorion sy’n ymwneud â chreu cerddoriaeth newydd wych yn lleol.
URL:https://thelostarc.co.uk/event/nos-wener-pizza/2027-12-31/
CATEGORIES:Bwyd
ATTACH;FMTTYPE=image/jpeg:https://thelostarc.co.uk/wp-content/uploads/2019/05/Pizza-oven.jpg
END:VEVENT
BEGIN:VEVENT
DTSTART;TZID=Europe/London:20271231T170000
DTEND;TZID=Europe/London:20271231T210000
DTSTAMP:20260419T205257
CREATED:20260129T104003Z
LAST-MODIFIED:20260129T104749Z
UID:10001578-1830272400-1830286800@thelostarc.co.uk
SUMMARY:Friday pizza night
DESCRIPTION:Pizza nights at the arc!\n\n\n\nFriday night is pizza night at The Lost ARC café! At the end of the week we fire up our amazing wood-fired over to cook delicious and fresh pizza\, so why not join us! \n\n\n\nBooking is recommended\, especially if there’s a gig on! Call the café to book on 01597811226. \n\n\n\n\n\n\n\n\n\n\n\n\n\n\n\nBook now!
URL:https://thelostarc.co.uk/event/friday-pizza-night/2027-12-31/
CATEGORIES:Food
ATTACH;FMTTYPE=image/jpeg:https://thelostarc.co.uk/wp-content/uploads/2019/05/Pizza-oven.jpg
END:VEVENT
BEGIN:VEVENT
DTSTART;TZID=Europe/London:20280103T193000
DTEND;TZID=Europe/London:20280103T223000
DTSTAMP:20260419T205257
CREATED:20250626T091106Z
LAST-MODIFIED:20250707T234146Z
UID:10001250-1830540600-1830551400@thelostarc.co.uk
SUMMARY:open mic
DESCRIPTION:A chance to get on our stage on the first Monday of every month! \n\n\n\nAll welcome\, with sign up from 7pm earliest. Songs\, stories\, jams\, poems and more. \n\n\n\nProfessional sound and a supportive audience guaranteed. Free entry\, bar open. \n\n\n\nFor more information search ‘The Lost Arc Open Mic‘ on facebook to join our group and make enquiries.
URL:https://thelostarc.co.uk/event/open-mic/2028-01-03/
CATEGORIES:Community
ATTACH;FMTTYPE=image/jpeg:https://thelostarc.co.uk/wp-content/uploads/2025/06/Open-Mic.jpg
END:VEVENT
BEGIN:VEVENT
DTSTART;TZID=Europe/London:20280107T170000
DTEND;TZID=Europe/London:20280107T210000
DTSTAMP:20260419T205257
CREATED:20241122T183907Z
LAST-MODIFIED:20251103T155439Z
UID:10000971-1830877200-1830891600@thelostarc.co.uk
SUMMARY:Nos Wener pizza
DESCRIPTION:Nosweithiau pizza wrth yr arc!\n\n\n\nyn noson newydd\, reolaidd o gerddoriaeth fyw wreiddiol o’n hardal leol. Mewn ymdrech i hybu a chynnal y sin gerddoriaeth wych sydd gennym yn y Canolbarth\, rydym yn rhoi llwyfan newydd ac ymroddedig i dalent cartref. Bydd gan y noson lein-yp gwahanol o 3 act bob yn ail fis\, gyda’r holl arian drws yn mynd yn syth i’r cerddorion sy’n ymwneud â chreu cerddoriaeth newydd wych yn lleol.
URL:https://thelostarc.co.uk/event/nos-wener-pizza/2028-01-07/
CATEGORIES:Bwyd
ATTACH;FMTTYPE=image/jpeg:https://thelostarc.co.uk/wp-content/uploads/2019/05/Pizza-oven.jpg
END:VEVENT
BEGIN:VEVENT
DTSTART;TZID=Europe/London:20280107T170000
DTEND;TZID=Europe/London:20280107T210000
DTSTAMP:20260419T205257
CREATED:20260129T104003Z
LAST-MODIFIED:20260129T104749Z
UID:10001579-1830877200-1830891600@thelostarc.co.uk
SUMMARY:Friday pizza night
DESCRIPTION:Pizza nights at the arc!\n\n\n\nFriday night is pizza night at The Lost ARC café! At the end of the week we fire up our amazing wood-fired over to cook delicious and fresh pizza\, so why not join us! \n\n\n\nBooking is recommended\, especially if there’s a gig on! Call the café to book on 01597811226. \n\n\n\n\n\n\n\n\n\n\n\n\n\n\n\nBook now!
URL:https://thelostarc.co.uk/event/friday-pizza-night/2028-01-07/
CATEGORIES:Food
ATTACH;FMTTYPE=image/jpeg:https://thelostarc.co.uk/wp-content/uploads/2019/05/Pizza-oven.jpg
END:VEVENT
BEGIN:VEVENT
DTSTART;TZID=Europe/London:20280114T170000
DTEND;TZID=Europe/London:20280114T210000
DTSTAMP:20260419T205257
CREATED:20241122T183907Z
LAST-MODIFIED:20251103T155439Z
UID:10000972-1831482000-1831496400@thelostarc.co.uk
SUMMARY:Nos Wener pizza
DESCRIPTION:Nosweithiau pizza wrth yr arc!\n\n\n\nyn noson newydd\, reolaidd o gerddoriaeth fyw wreiddiol o’n hardal leol. Mewn ymdrech i hybu a chynnal y sin gerddoriaeth wych sydd gennym yn y Canolbarth\, rydym yn rhoi llwyfan newydd ac ymroddedig i dalent cartref. Bydd gan y noson lein-yp gwahanol o 3 act bob yn ail fis\, gyda’r holl arian drws yn mynd yn syth i’r cerddorion sy’n ymwneud â chreu cerddoriaeth newydd wych yn lleol.
URL:https://thelostarc.co.uk/event/nos-wener-pizza/2028-01-14/
CATEGORIES:Bwyd
ATTACH;FMTTYPE=image/jpeg:https://thelostarc.co.uk/wp-content/uploads/2019/05/Pizza-oven.jpg
END:VEVENT
BEGIN:VEVENT
DTSTART;TZID=Europe/London:20280114T170000
DTEND;TZID=Europe/London:20280114T210000
DTSTAMP:20260419T205257
CREATED:20260129T104003Z
LAST-MODIFIED:20260129T104749Z
UID:10001580-1831482000-1831496400@thelostarc.co.uk
SUMMARY:Friday pizza night
DESCRIPTION:Pizza nights at the arc!\n\n\n\nFriday night is pizza night at The Lost ARC café! At the end of the week we fire up our amazing wood-fired over to cook delicious and fresh pizza\, so why not join us! \n\n\n\nBooking is recommended\, especially if there’s a gig on! Call the café to book on 01597811226. \n\n\n\n\n\n\n\n\n\n\n\n\n\n\n\nBook now!
URL:https://thelostarc.co.uk/event/friday-pizza-night/2028-01-14/
CATEGORIES:Food
ATTACH;FMTTYPE=image/jpeg:https://thelostarc.co.uk/wp-content/uploads/2019/05/Pizza-oven.jpg
END:VEVENT
BEGIN:VEVENT
DTSTART;TZID=Europe/London:20280121T170000
DTEND;TZID=Europe/London:20280121T210000
DTSTAMP:20260419T205257
CREATED:20241122T183907Z
LAST-MODIFIED:20251103T155439Z
UID:10000973-1832086800-1832101200@thelostarc.co.uk
SUMMARY:Nos Wener pizza
DESCRIPTION:Nosweithiau pizza wrth yr arc!\n\n\n\nyn noson newydd\, reolaidd o gerddoriaeth fyw wreiddiol o’n hardal leol. Mewn ymdrech i hybu a chynnal y sin gerddoriaeth wych sydd gennym yn y Canolbarth\, rydym yn rhoi llwyfan newydd ac ymroddedig i dalent cartref. Bydd gan y noson lein-yp gwahanol o 3 act bob yn ail fis\, gyda’r holl arian drws yn mynd yn syth i’r cerddorion sy’n ymwneud â chreu cerddoriaeth newydd wych yn lleol.
URL:https://thelostarc.co.uk/event/nos-wener-pizza/2028-01-21/
CATEGORIES:Bwyd
ATTACH;FMTTYPE=image/jpeg:https://thelostarc.co.uk/wp-content/uploads/2019/05/Pizza-oven.jpg
END:VEVENT
BEGIN:VEVENT
DTSTART;TZID=Europe/London:20280121T170000
DTEND;TZID=Europe/London:20280121T210000
DTSTAMP:20260419T205257
CREATED:20260129T104003Z
LAST-MODIFIED:20260129T104749Z
UID:10001581-1832086800-1832101200@thelostarc.co.uk
SUMMARY:Friday pizza night
DESCRIPTION:Pizza nights at the arc!\n\n\n\nFriday night is pizza night at The Lost ARC café! At the end of the week we fire up our amazing wood-fired over to cook delicious and fresh pizza\, so why not join us! \n\n\n\nBooking is recommended\, especially if there’s a gig on! Call the café to book on 01597811226. \n\n\n\n\n\n\n\n\n\n\n\n\n\n\n\nBook now!
URL:https://thelostarc.co.uk/event/friday-pizza-night/2028-01-21/
CATEGORIES:Food
ATTACH;FMTTYPE=image/jpeg:https://thelostarc.co.uk/wp-content/uploads/2019/05/Pizza-oven.jpg
END:VEVENT
BEGIN:VEVENT
DTSTART;TZID=Europe/London:20280128T170000
DTEND;TZID=Europe/London:20280128T210000
DTSTAMP:20260419T205257
CREATED:20241122T183907Z
LAST-MODIFIED:20251103T155439Z
UID:10000974-1832691600-1832706000@thelostarc.co.uk
SUMMARY:Nos Wener pizza
DESCRIPTION:Nosweithiau pizza wrth yr arc!\n\n\n\nyn noson newydd\, reolaidd o gerddoriaeth fyw wreiddiol o’n hardal leol. Mewn ymdrech i hybu a chynnal y sin gerddoriaeth wych sydd gennym yn y Canolbarth\, rydym yn rhoi llwyfan newydd ac ymroddedig i dalent cartref. Bydd gan y noson lein-yp gwahanol o 3 act bob yn ail fis\, gyda’r holl arian drws yn mynd yn syth i’r cerddorion sy’n ymwneud â chreu cerddoriaeth newydd wych yn lleol.
URL:https://thelostarc.co.uk/event/nos-wener-pizza/2028-01-28/
CATEGORIES:Bwyd
ATTACH;FMTTYPE=image/jpeg:https://thelostarc.co.uk/wp-content/uploads/2019/05/Pizza-oven.jpg
END:VEVENT
BEGIN:VEVENT
DTSTART;TZID=Europe/London:20280128T170000
DTEND;TZID=Europe/London:20280128T210000
DTSTAMP:20260419T205257
CREATED:20260129T104003Z
LAST-MODIFIED:20260129T104749Z
UID:10001582-1832691600-1832706000@thelostarc.co.uk
SUMMARY:Friday pizza night
DESCRIPTION:Pizza nights at the arc!\n\n\n\nFriday night is pizza night at The Lost ARC café! At the end of the week we fire up our amazing wood-fired over to cook delicious and fresh pizza\, so why not join us! \n\n\n\nBooking is recommended\, especially if there’s a gig on! Call the café to book on 01597811226. \n\n\n\n\n\n\n\n\n\n\n\n\n\n\n\nBook now!
URL:https://thelostarc.co.uk/event/friday-pizza-night/2028-01-28/
CATEGORIES:Food
ATTACH;FMTTYPE=image/jpeg:https://thelostarc.co.uk/wp-content/uploads/2019/05/Pizza-oven.jpg
END:VEVENT
BEGIN:VEVENT
DTSTART;TZID=Europe/London:20280204T170000
DTEND;TZID=Europe/London:20280204T210000
DTSTAMP:20260419T205257
CREATED:20241122T183907Z
LAST-MODIFIED:20251103T155439Z
UID:10000975-1833296400-1833310800@thelostarc.co.uk
SUMMARY:Nos Wener pizza
DESCRIPTION:Nosweithiau pizza wrth yr arc!\n\n\n\nyn noson newydd\, reolaidd o gerddoriaeth fyw wreiddiol o’n hardal leol. Mewn ymdrech i hybu a chynnal y sin gerddoriaeth wych sydd gennym yn y Canolbarth\, rydym yn rhoi llwyfan newydd ac ymroddedig i dalent cartref. Bydd gan y noson lein-yp gwahanol o 3 act bob yn ail fis\, gyda’r holl arian drws yn mynd yn syth i’r cerddorion sy’n ymwneud â chreu cerddoriaeth newydd wych yn lleol.
URL:https://thelostarc.co.uk/event/nos-wener-pizza/2028-02-04/
CATEGORIES:Bwyd
ATTACH;FMTTYPE=image/jpeg:https://thelostarc.co.uk/wp-content/uploads/2019/05/Pizza-oven.jpg
END:VEVENT
BEGIN:VEVENT
DTSTART;TZID=Europe/London:20280204T170000
DTEND;TZID=Europe/London:20280204T210000
DTSTAMP:20260419T205257
CREATED:20260129T104003Z
LAST-MODIFIED:20260129T104749Z
UID:10001583-1833296400-1833310800@thelostarc.co.uk
SUMMARY:Friday pizza night
DESCRIPTION:Pizza nights at the arc!\n\n\n\nFriday night is pizza night at The Lost ARC café! At the end of the week we fire up our amazing wood-fired over to cook delicious and fresh pizza\, so why not join us! \n\n\n\nBooking is recommended\, especially if there’s a gig on! Call the café to book on 01597811226. \n\n\n\n\n\n\n\n\n\n\n\n\n\n\n\nBook now!
URL:https://thelostarc.co.uk/event/friday-pizza-night/2028-02-04/
CATEGORIES:Food
ATTACH;FMTTYPE=image/jpeg:https://thelostarc.co.uk/wp-content/uploads/2019/05/Pizza-oven.jpg
END:VEVENT
BEGIN:VEVENT
DTSTART;TZID=Europe/London:20280207T193000
DTEND;TZID=Europe/London:20280207T223000
DTSTAMP:20260419T205257
CREATED:20250626T091106Z
LAST-MODIFIED:20250707T234146Z
UID:10001251-1833564600-1833575400@thelostarc.co.uk
SUMMARY:open mic
DESCRIPTION:A chance to get on our stage on the first Monday of every month! \n\n\n\nAll welcome\, with sign up from 7pm earliest. Songs\, stories\, jams\, poems and more. \n\n\n\nProfessional sound and a supportive audience guaranteed. Free entry\, bar open. \n\n\n\nFor more information search ‘The Lost Arc Open Mic‘ on facebook to join our group and make enquiries.
URL:https://thelostarc.co.uk/event/open-mic/2028-02-07/
CATEGORIES:Community
ATTACH;FMTTYPE=image/jpeg:https://thelostarc.co.uk/wp-content/uploads/2025/06/Open-Mic.jpg
END:VEVENT
BEGIN:VEVENT
DTSTART;TZID=Europe/London:20280211T170000
DTEND;TZID=Europe/London:20280211T210000
DTSTAMP:20260419T205257
CREATED:20241122T183907Z
LAST-MODIFIED:20251103T155439Z
UID:10000976-1833901200-1833915600@thelostarc.co.uk
SUMMARY:Nos Wener pizza
DESCRIPTION:Nosweithiau pizza wrth yr arc!\n\n\n\nyn noson newydd\, reolaidd o gerddoriaeth fyw wreiddiol o’n hardal leol. Mewn ymdrech i hybu a chynnal y sin gerddoriaeth wych sydd gennym yn y Canolbarth\, rydym yn rhoi llwyfan newydd ac ymroddedig i dalent cartref. Bydd gan y noson lein-yp gwahanol o 3 act bob yn ail fis\, gyda’r holl arian drws yn mynd yn syth i’r cerddorion sy’n ymwneud â chreu cerddoriaeth newydd wych yn lleol.
URL:https://thelostarc.co.uk/event/nos-wener-pizza/2028-02-11/
CATEGORIES:Bwyd
ATTACH;FMTTYPE=image/jpeg:https://thelostarc.co.uk/wp-content/uploads/2019/05/Pizza-oven.jpg
END:VEVENT
BEGIN:VEVENT
DTSTART;TZID=Europe/London:20280211T170000
DTEND;TZID=Europe/London:20280211T210000
DTSTAMP:20260419T205257
CREATED:20260129T104003Z
LAST-MODIFIED:20260129T104749Z
UID:10001584-1833901200-1833915600@thelostarc.co.uk
SUMMARY:Friday pizza night
DESCRIPTION:Pizza nights at the arc!\n\n\n\nFriday night is pizza night at The Lost ARC café! At the end of the week we fire up our amazing wood-fired over to cook delicious and fresh pizza\, so why not join us! \n\n\n\nBooking is recommended\, especially if there’s a gig on! Call the café to book on 01597811226. \n\n\n\n\n\n\n\n\n\n\n\n\n\n\n\nBook now!
URL:https://thelostarc.co.uk/event/friday-pizza-night/2028-02-11/
CATEGORIES:Food
ATTACH;FMTTYPE=image/jpeg:https://thelostarc.co.uk/wp-content/uploads/2019/05/Pizza-oven.jpg
END:VEVENT
BEGIN:VEVENT
DTSTART;TZID=Europe/London:20280218T170000
DTEND;TZID=Europe/London:20280218T210000
DTSTAMP:20260419T205257
CREATED:20241122T183907Z
LAST-MODIFIED:20251103T155439Z
UID:10000977-1834506000-1834520400@thelostarc.co.uk
SUMMARY:Nos Wener pizza
DESCRIPTION:Nosweithiau pizza wrth yr arc!\n\n\n\nyn noson newydd\, reolaidd o gerddoriaeth fyw wreiddiol o’n hardal leol. Mewn ymdrech i hybu a chynnal y sin gerddoriaeth wych sydd gennym yn y Canolbarth\, rydym yn rhoi llwyfan newydd ac ymroddedig i dalent cartref. Bydd gan y noson lein-yp gwahanol o 3 act bob yn ail fis\, gyda’r holl arian drws yn mynd yn syth i’r cerddorion sy’n ymwneud â chreu cerddoriaeth newydd wych yn lleol.
URL:https://thelostarc.co.uk/event/nos-wener-pizza/2028-02-18/
CATEGORIES:Bwyd
ATTACH;FMTTYPE=image/jpeg:https://thelostarc.co.uk/wp-content/uploads/2019/05/Pizza-oven.jpg
END:VEVENT
BEGIN:VEVENT
DTSTART;TZID=Europe/London:20280218T170000
DTEND;TZID=Europe/London:20280218T210000
DTSTAMP:20260419T205257
CREATED:20260129T104003Z
LAST-MODIFIED:20260129T104749Z
UID:10001585-1834506000-1834520400@thelostarc.co.uk
SUMMARY:Friday pizza night
DESCRIPTION:Pizza nights at the arc!\n\n\n\nFriday night is pizza night at The Lost ARC café! At the end of the week we fire up our amazing wood-fired over to cook delicious and fresh pizza\, so why not join us! \n\n\n\nBooking is recommended\, especially if there’s a gig on! Call the café to book on 01597811226. \n\n\n\n\n\n\n\n\n\n\n\n\n\n\n\nBook now!
URL:https://thelostarc.co.uk/event/friday-pizza-night/2028-02-18/
CATEGORIES:Food
ATTACH;FMTTYPE=image/jpeg:https://thelostarc.co.uk/wp-content/uploads/2019/05/Pizza-oven.jpg
END:VEVENT
BEGIN:VEVENT
DTSTART;TZID=Europe/London:20280225T170000
DTEND;TZID=Europe/London:20280225T210000
DTSTAMP:20260419T205257
CREATED:20241122T183907Z
LAST-MODIFIED:20251103T155439Z
UID:10000978-1835110800-1835125200@thelostarc.co.uk
SUMMARY:Nos Wener pizza
DESCRIPTION:Nosweithiau pizza wrth yr arc!\n\n\n\nyn noson newydd\, reolaidd o gerddoriaeth fyw wreiddiol o’n hardal leol. Mewn ymdrech i hybu a chynnal y sin gerddoriaeth wych sydd gennym yn y Canolbarth\, rydym yn rhoi llwyfan newydd ac ymroddedig i dalent cartref. Bydd gan y noson lein-yp gwahanol o 3 act bob yn ail fis\, gyda’r holl arian drws yn mynd yn syth i’r cerddorion sy’n ymwneud â chreu cerddoriaeth newydd wych yn lleol.
URL:https://thelostarc.co.uk/event/nos-wener-pizza/2028-02-25/
CATEGORIES:Bwyd
ATTACH;FMTTYPE=image/jpeg:https://thelostarc.co.uk/wp-content/uploads/2019/05/Pizza-oven.jpg
END:VEVENT
BEGIN:VEVENT
DTSTART;TZID=Europe/London:20280225T170000
DTEND;TZID=Europe/London:20280225T210000
DTSTAMP:20260419T205257
CREATED:20260129T104003Z
LAST-MODIFIED:20260129T104749Z
UID:10001586-1835110800-1835125200@thelostarc.co.uk
SUMMARY:Friday pizza night
DESCRIPTION:Pizza nights at the arc!\n\n\n\nFriday night is pizza night at The Lost ARC café! At the end of the week we fire up our amazing wood-fired over to cook delicious and fresh pizza\, so why not join us! \n\n\n\nBooking is recommended\, especially if there’s a gig on! Call the café to book on 01597811226. \n\n\n\n\n\n\n\n\n\n\n\n\n\n\n\nBook now!
URL:https://thelostarc.co.uk/event/friday-pizza-night/2028-02-25/
CATEGORIES:Food
ATTACH;FMTTYPE=image/jpeg:https://thelostarc.co.uk/wp-content/uploads/2019/05/Pizza-oven.jpg
END:VEVENT
END:VCALENDAR